BEGIN:VCALENDAR
VERSION:2.0
PRODID:-//MacDougall Sportsmen&#039;s Club - ECPv6.15.11//NONSGML v1.0//EN
CALSCALE:GREGORIAN
METHOD:PUBLISH
X-ORIGINAL-URL:https://macdougallsportsmen.com
X-WR-CALDESC:Events for MacDougall Sportsmen&#039;s Club
REFRESH-INTERVAL;VALUE=DURATION:PT1H
X-Robots-Tag:noindex
X-PUBLISHED-TTL:PT1H
BEGIN:VTIMEZONE
TZID:America/New_York
BEGIN:DAYLIGHT
TZOFFSETFROM:-0500
TZOFFSETTO:-0400
TZNAME:EDT
DTSTART:20240310T070000
END:DAYLIGHT
BEGIN:STANDARD
TZOFFSETFROM:-0400
TZOFFSETTO:-0500
TZNAME:EST
DTSTART:20241103T060000
END:STANDARD
BEGIN:DAYLIGHT
TZOFFSETFROM:-0500
TZOFFSETTO:-0400
TZNAME:EDT
DTSTART:20250309T070000
END:DAYLIGHT
BEGIN:STANDARD
TZOFFSETFROM:-0400
TZOFFSETTO:-0500
TZNAME:EST
DTSTART:20251102T060000
END:STANDARD
BEGIN:DAYLIGHT
TZOFFSETFROM:-0500
TZOFFSETTO:-0400
TZNAME:EDT
DTSTART:20260308T070000
END:DAYLIGHT
BEGIN:STANDARD
TZOFFSETFROM:-0400
TZOFFSETTO:-0500
TZNAME:EST
DTSTART:20261101T060000
END:STANDARD
END:VTIMEZONE
BEGIN:VEVENT
DTSTART;TZID=America/New_York:20250418T160000
DTEND;TZID=America/New_York:20250418T200000
DTSTAMP:20260419T190740
CREATED:20250403T140909Z
LAST-MODIFIED:20250403T141031Z
UID:2130-1744992000-1745006400@macdougallsportsmen.com
SUMMARY:Friday Night Fish Fry
DESCRIPTION:Our Friday Night Fish Fry will be starting March 7\, 2025 and run every Friday from 4pm – 8pm through April 25\, 2025. \nDine in or Takeout is available (Call 315-585-0155 to order). \nAll Dinners served with French Fries\, Coleslaw\, and Roll \nChoose from: \n\nFresh Haddock Dinner\nShrimp Dinner\nFresh Haddock / Shrimp Dinner (Combo)\nBoneless Chicken Strips\n(Hot\, Mild\, Medium\, BBQ\, and Cattlemen’s) Sause’s will be on the side for dipping only.\n\n\nDelicious Sides: \n\nMozzarella Sticks\nPickle Spears\nFrench Fries\n\nAllergen note: We cook with peanut oil.
URL:https://macdougallsportsmen.com/event/friday-night-fish-fry-3-3-3-3-2/
LOCATION:MacDougall Sportsmen’s Club\, 3800 MacDougall Road\, Waterloo\, NY\, 13165\, United States
CATEGORIES:Fish Dinners
END:VEVENT
END:VCALENDAR