BEGIN:VCALENDAR
VERSION:2.0
PRODID:-//MacDougall Sportsmen&#039;s Club - ECPv6.15.11//NONSGML v1.0//EN
CALSCALE:GREGORIAN
METHOD:PUBLISH
X-ORIGINAL-URL:https://macdougallsportsmen.com
X-WR-CALDESC:Events for MacDougall Sportsmen&#039;s Club
REFRESH-INTERVAL;VALUE=DURATION:PT1H
X-Robots-Tag:noindex
X-PUBLISHED-TTL:PT1H
BEGIN:VTIMEZONE
TZID:America/New_York
BEGIN:DAYLIGHT
TZOFFSETFROM:-0500
TZOFFSETTO:-0400
TZNAME:EDT
DTSTART:20240310T070000
END:DAYLIGHT
BEGIN:STANDARD
TZOFFSETFROM:-0400
TZOFFSETTO:-0500
TZNAME:EST
DTSTART:20241103T060000
END:STANDARD
BEGIN:DAYLIGHT
TZOFFSETFROM:-0500
TZOFFSETTO:-0400
TZNAME:EDT
DTSTART:20250309T070000
END:DAYLIGHT
BEGIN:STANDARD
TZOFFSETFROM:-0400
TZOFFSETTO:-0500
TZNAME:EST
DTSTART:20251102T060000
END:STANDARD
BEGIN:DAYLIGHT
TZOFFSETFROM:-0500
TZOFFSETTO:-0400
TZNAME:EDT
DTSTART:20260308T070000
END:DAYLIGHT
BEGIN:STANDARD
TZOFFSETFROM:-0400
TZOFFSETTO:-0500
TZNAME:EST
DTSTART:20261101T060000
END:STANDARD
END:VTIMEZONE
BEGIN:VEVENT
DTSTART;TZID=America/New_York:20250215T090000
DTEND;TZID=America/New_York:20250215T120000
DTSTAMP:20260423T033627
CREATED:20250112T213018Z
LAST-MODIFIED:20250112T213128Z
UID:2110-1739610000-1739620800@macdougallsportsmen.com
SUMMARY:Winter Poker League
DESCRIPTION:MacDougall Sportsmen’s Club  \nWinter Poker Shooting League  \n Shooting Dates \n December 21st  \nJanuary 18th  \nJanuary 25th  \nFebruary 15th  \nFebruary 22nd  \n March 15th – Banquet (Awards & Steak Dinner) \nShooting times: 9am – Noon. 
URL:https://macdougallsportsmen.com/event/winter-poker-league-2-2/
LOCATION:MacDougall Sportsmen’s Club\, 3800 MacDougall Road\, Waterloo\, NY\, 13165\, United States
CATEGORIES:Trap/Shooting Event
END:VEVENT
END:VCALENDAR