BEGIN:VCALENDAR
VERSION:2.0
PRODID:-//MacDougall Sportsmen&#039;s Club - ECPv6.15.11//NONSGML v1.0//EN
CALSCALE:GREGORIAN
METHOD:PUBLISH
X-WR-CALNAME:MacDougall Sportsmen&#039;s Club
X-ORIGINAL-URL:https://macdougallsportsmen.com
X-WR-CALDESC:Events for MacDougall Sportsmen&#039;s Club
REFRESH-INTERVAL;VALUE=DURATION:PT1H
X-Robots-Tag:noindex
X-PUBLISHED-TTL:PT1H
BEGIN:VTIMEZONE
TZID:America/New_York
BEGIN:DAYLIGHT
TZOFFSETFROM:-0500
TZOFFSETTO:-0400
TZNAME:EDT
DTSTART:20200308T070000
END:DAYLIGHT
BEGIN:STANDARD
TZOFFSETFROM:-0400
TZOFFSETTO:-0500
TZNAME:EST
DTSTART:20201101T060000
END:STANDARD
BEGIN:DAYLIGHT
TZOFFSETFROM:-0500
TZOFFSETTO:-0400
TZNAME:EDT
DTSTART:20210314T070000
END:DAYLIGHT
BEGIN:STANDARD
TZOFFSETFROM:-0400
TZOFFSETTO:-0500
TZNAME:EST
DTSTART:20211107T060000
END:STANDARD
BEGIN:DAYLIGHT
TZOFFSETFROM:-0500
TZOFFSETTO:-0400
TZNAME:EDT
DTSTART:20220313T070000
END:DAYLIGHT
BEGIN:STANDARD
TZOFFSETFROM:-0400
TZOFFSETTO:-0500
TZNAME:EST
DTSTART:20221106T060000
END:STANDARD
BEGIN:DAYLIGHT
TZOFFSETFROM:-0500
TZOFFSETTO:-0400
TZNAME:EDT
DTSTART:20230312T070000
END:DAYLIGHT
BEGIN:STANDARD
TZOFFSETFROM:-0400
TZOFFSETTO:-0500
TZNAME:EST
DTSTART:20231105T060000
END:STANDARD
END:VTIMEZONE
BEGIN:VEVENT
DTSTART;TZID=America/New_York:20220130T090000
DTEND;TZID=America/New_York:20220130T170000
DTSTAMP:20260420T114056
CREATED:20211228T135322Z
LAST-MODIFIED:20211228T135322Z
UID:1092-1643533200-1643562000@macdougallsportsmen.com
SUMMARY:USCCA - Concealed Carry Class
DESCRIPTION:Jim Santos will hold a USCCA – Concealed Carry class on Sunday January 30\, 2022 from 9am – 5pm.  Class Cost: $75 \nAny questions and to sign up for the class please call Jim at: (607) 738-6527
URL:https://macdougallsportsmen.com/event/uscca-concealed-carry-class/
LOCATION:MacDougall Sportsmen’s Club\, 3800 MacDougall Road\, Waterloo\, NY\, 13165\, United States
CATEGORIES:Community Event,Trap/Shooting Event
END:VEVENT
BEGIN:VEVENT
DTSTART;TZID=America/New_York:20220129T090000
DTEND;TZID=America/New_York:20220129T170000
DTSTAMP:20260420T114057
CREATED:20211228T135641Z
LAST-MODIFIED:20211228T135641Z
UID:1094-1643446800-1643475600@macdougallsportsmen.com
SUMMARY:NRA - Basic Pistol Class
DESCRIPTION:Jim Santos will hold a NRA – Basic Pistol Class on Saturday January 29\, 2022 from 9am – 5pm. \nClass cost: $100.00 \n  \nFor any questions or t sign up for this class please contact Jim at: (607) 738-6527
URL:https://macdougallsportsmen.com/event/nra-basic-pistol-class-2/
LOCATION:MacDougall Sportsmen’s Club\, 3800 MacDougall Road\, Waterloo\, NY\, 13165\, United States
CATEGORIES:Community Event,Trap/Shooting Event
END:VEVENT
BEGIN:VEVENT
DTSTART;TZID=America/New_York:20220122T090000
DTEND;TZID=America/New_York:20220122T150000
DTSTAMP:20260420T114057
CREATED:20211228T145354Z
LAST-MODIFIED:20211228T145639Z
UID:1126-1642842000-1642863600@macdougallsportsmen.com
SUMMARY:Winter Poker Shooting League
DESCRIPTION:Sign up and shoot times: 9am – noon.  Followed by lunch and revealing your poker hand!
URL:https://macdougallsportsmen.com/event/winter-poker-shooting-league-2-2/
LOCATION:MacDougall Sportsmen’s Club\, 3800 MacDougall Road\, Waterloo\, NY\, 13165\, United States
CATEGORIES:Trap/Shooting Event
END:VEVENT
BEGIN:VEVENT
DTSTART;TZID=America/New_York:20220115T090000
DTEND;TZID=America/New_York:20220115T120000
DTSTAMP:20260420T114057
CREATED:20211228T145354Z
LAST-MODIFIED:20211228T145441Z
UID:1124-1642237200-1642248000@macdougallsportsmen.com
SUMMARY:Winter Poker Shooting League
DESCRIPTION:Sign up and shoot times: 9am – noon
URL:https://macdougallsportsmen.com/event/winter-poker-shooting-league-2/
LOCATION:MacDougall Sportsmen’s Club\, 3800 MacDougall Road\, Waterloo\, NY\, 13165\, United States
CATEGORIES:Trap/Shooting Event
END:VEVENT
BEGIN:VEVENT
DTSTART;TZID=America/New_York:20220108T180000
DTEND;TZID=America/New_York:20220108T220000
DTSTAMP:20260420T114057
CREATED:20211228T144912Z
LAST-MODIFIED:20211228T144912Z
UID:1120-1641664800-1641679200@macdougallsportsmen.com
SUMMARY:Phil Jensen - Buck Club Banquet
DESCRIPTION:Phil Jensen will be holding the buck club dinner and banquet on January 8\, 2022.  Start time is 6pm with snacks and cocktails\, followed by dinner and awards.
URL:https://macdougallsportsmen.com/event/phil-jensen-buck-club-banquet/
LOCATION:MacDougall Sportsmen’s Club\, 3800 MacDougall Road\, Waterloo\, NY\, 13165\, United States
CATEGORIES:Trap/Shooting Event
END:VEVENT
BEGIN:VEVENT
DTSTART;TZID=America/New_York:20220108T090000
DTEND;TZID=America/New_York:20220108T120000
DTSTAMP:20260420T114057
CREATED:20211228T145354Z
LAST-MODIFIED:20211228T145354Z
UID:1122-1641632400-1641643200@macdougallsportsmen.com
SUMMARY:Winter Poker Shooting League
DESCRIPTION:Sign up and shoot times: 9am – noon
URL:https://macdougallsportsmen.com/event/winter-poker-shooting-league/
LOCATION:MacDougall Sportsmen’s Club\, 3800 MacDougall Road\, Waterloo\, NY\, 13165\, United States
CATEGORIES:Trap/Shooting Event
END:VEVENT
BEGIN:VEVENT
DTSTART;TZID=America/New_York:20220101T093000
DTEND;TZID=America/New_York:20220101T170000
DTSTAMP:20260420T114057
CREATED:20211228T143108Z
LAST-MODIFIED:20211228T143108Z
UID:1099-1641029400-1641056400@macdougallsportsmen.com
SUMMARY:13th Annual Bob Klemann Memorial Shoot
DESCRIPTION:MacDougall Sportsmen’s Club will be holding the 13th Annual Bob Klemann Memorial Shoot on January 1st. Complementary breakfast starts at 9:30am followed by trap and skeet. \nBob was a member who was active in promoting shooting sports\, especially for children and in building the shooting range at the Club.
URL:https://macdougallsportsmen.com/event/13th-annual-bob-klemann-memorial-shoot/
LOCATION:MacDougall Sportsmen’s Club\, 3800 MacDougall Road\, Waterloo\, NY\, 13165\, United States
CATEGORIES:Trap/Shooting Event
END:VEVENT
BEGIN:VEVENT
DTSTART;TZID=America/New_York:20211218T090000
DTEND;TZID=America/New_York:20211218T120000
DTSTAMP:20260420T114057
CREATED:20211228T145354Z
LAST-MODIFIED:20211228T145728Z
UID:1128-1639818000-1639828800@macdougallsportsmen.com
SUMMARY:Winter Poker Shooting League
DESCRIPTION:Sign up and shoot times: 9am – noon.
URL:https://macdougallsportsmen.com/event/winter-poker-shooting-league-2-2-2/
LOCATION:MacDougall Sportsmen’s Club\, 3800 MacDougall Road\, Waterloo\, NY\, 13165\, United States
CATEGORIES:Trap/Shooting Event
END:VEVENT
BEGIN:VEVENT
DTSTART;TZID=America/New_York:20211204T090000
DTEND;TZID=America/New_York:20211204T120000
DTSTAMP:20260420T114057
CREATED:20211228T145354Z
LAST-MODIFIED:20211228T145901Z
UID:1130-1638608400-1638619200@macdougallsportsmen.com
SUMMARY:Winter Poker Shooting League
DESCRIPTION:Sign up and shoot times: 9am – noon.
URL:https://macdougallsportsmen.com/event/winter-poker-shooting-league-2-2-2-2/
LOCATION:MacDougall Sportsmen’s Club\, 3800 MacDougall Road\, Waterloo\, NY\, 13165\, United States
CATEGORIES:Trap/Shooting Event
END:VEVENT
BEGIN:VEVENT
DTSTART;TZID=America/New_York:20211127T090000
DTEND;TZID=America/New_York:20211127T120000
DTSTAMP:20260420T114057
CREATED:20211228T145354Z
LAST-MODIFIED:20211228T145920Z
UID:1131-1638003600-1638014400@macdougallsportsmen.com
SUMMARY:Winter Poker Shooting League
DESCRIPTION:Sign up and shoot times: 9am – noon.
URL:https://macdougallsportsmen.com/event/winter-poker-shooting-league-2-2-2-3/
LOCATION:MacDougall Sportsmen’s Club\, 3800 MacDougall Road\, Waterloo\, NY\, 13165\, United States
CATEGORIES:Trap/Shooting Event
END:VEVENT
BEGIN:VEVENT
DTSTART;TZID=America/New_York:20211113T100000
DTEND;TZID=America/New_York:20211113T180000
DTSTAMP:20260420T114057
CREATED:20210218T023307Z
LAST-MODIFIED:20210218T023307Z
UID:990-1636797600-1636826400@macdougallsportsmen.com
SUMMARY:Fall Shoot
DESCRIPTION:
URL:https://macdougallsportsmen.com/event/fall-shoot/
LOCATION:MacDougall Sportsmen’s Club\, 3800 MacDougall Road\, Waterloo\, NY\, 13165\, United States
CATEGORIES:Trap/Shooting Event
END:VEVENT
BEGIN:VEVENT
DTSTART;TZID=America/New_York:20210925T080000
DTEND;TZID=America/New_York:20210925T170000
DTSTAMP:20260420T114057
CREATED:20210218T021906Z
LAST-MODIFIED:20210218T021906Z
UID:976-1632556800-1632589200@macdougallsportsmen.com
SUMMARY:200 Bird Trap Run
DESCRIPTION:
URL:https://macdougallsportsmen.com/event/200-bird-trap-run/
LOCATION:MacDougall Sportsmen’s Club\, 3800 MacDougall Road\, Waterloo\, NY\, 13165\, United States
CATEGORIES:Trap/Shooting Event
END:VEVENT
BEGIN:VEVENT
DTSTART;TZID=America/New_York:20210522T090000
DTEND;TZID=America/New_York:20210522T170000
DTSTAMP:20260420T114057
CREATED:20210417T145456Z
LAST-MODIFIED:20210417T145456Z
UID:1059-1621674000-1621702800@macdougallsportsmen.com
SUMMARY:NRA Basic Pistol Class
DESCRIPTION:Jim Santos will be hosting an NRA Basic Pistol Class here at the club from 9am to 5pm.  Cost is $100.00.  If you have any questions please call 607-738-6527.
URL:https://macdougallsportsmen.com/event/nra-basic-pistol-class/
LOCATION:MacDougall Sportsmen’s Club\, 3800 MacDougall Road\, Waterloo\, NY\, 13165\, United States
CATEGORIES:Community Event,Trap/Shooting Event
END:VEVENT
BEGIN:VEVENT
DTSTART;TZID=America/New_York:20210425T080000
DTEND;TZID=America/New_York:20210425T140000
DTSTAMP:20260420T114057
CREATED:20210218T015403Z
LAST-MODIFIED:20210218T015403Z
UID:952-1619337600-1619359200@macdougallsportsmen.com
SUMMARY:Little Brown Jug Trap League Shoot
DESCRIPTION:
URL:https://macdougallsportsmen.com/event/little-brown-jug-trap-league-shoot/
LOCATION:MacDougall Sportsmen’s Club\, 3800 MacDougall Road\, Waterloo\, NY\, 13165\, United States
CATEGORIES:Trap/Shooting Event
END:VEVENT
BEGIN:VEVENT
DTSTART;TZID=America/New_York:20210424T080000
DTEND;TZID=America/New_York:20210424T140000
DTSTAMP:20260420T114057
CREATED:20210218T015024Z
LAST-MODIFIED:20210218T015024Z
UID:950-1619251200-1619272800@macdougallsportsmen.com
SUMMARY:Little Brown Jug Trap League Shoot
DESCRIPTION:
URL:https://macdougallsportsmen.com/event/little-brown-jug-trap-league-shoot-2/
LOCATION:MacDougall Sportsmen’s Club\, 3800 MacDougall Road\, Waterloo\, NY\, 13165\, United States
CATEGORIES:Trap/Shooting Event
END:VEVENT
BEGIN:VEVENT
DTSTART;TZID=America/New_York:20210411T100000
DTEND;TZID=America/New_York:20210411T140000
DTSTAMP:20260420T114057
CREATED:20210204T145559Z
LAST-MODIFIED:20210204T195519Z
UID:577-1618135200-1618149600@macdougallsportsmen.com
SUMMARY:Trap Shoot Off - Lyons Winter League
DESCRIPTION:The Lyons Winter League for trap shooting continues from November 2020 to the April 11th Shoot Off.
URL:https://macdougallsportsmen.com/event/trap-lyons-winter-league-4-11-21/
LOCATION:MacDougall Sportsmen’s Club\, 3800 MacDougall Road\, Waterloo\, NY\, 13165\, United States
CATEGORIES:Trap/Shooting Event
END:VEVENT
BEGIN:VEVENT
DTSTART;TZID=America/New_York:20210327T100000
DTEND;TZID=America/New_York:20210327T180000
DTSTAMP:20260420T114057
CREATED:20210217T154147Z
LAST-MODIFIED:20210217T154147Z
UID:929-1616839200-1616868000@macdougallsportsmen.com
SUMMARY:Spring Shoot
DESCRIPTION:
URL:https://macdougallsportsmen.com/event/spring-shoot/
LOCATION:MacDougall Sportsmen’s Club\, 3800 MacDougall Road\, Waterloo\, NY\, 13165\, United States
CATEGORIES:Trap/Shooting Event
END:VEVENT
BEGIN:VEVENT
DTSTART;TZID=America/New_York:20210327T100000
DTEND;TZID=America/New_York:20210327T170000
DTSTAMP:20260420T114057
CREATED:20210316T141226Z
LAST-MODIFIED:20210316T141226Z
UID:1048-1616839200-1616864400@macdougallsportsmen.com
SUMMARY:Spring Shoot and Raffle
DESCRIPTION:MacDougall Sportsmen’s Club \n3800 MacDougall Rd. \nWaterloo\, NY 13165 \n315-585-6359 \n  \nSaturday\, March 27\, 2021 \n  \nAnnual Ham/Shrimp  \nShoot & Raffle  \n(Trap\, Skeet\, 100 Yard\, Pistol) \n10 am – 5 pm \nFood & Refreshments Available \n  \nMasks & Social Distancing Will Be  \nPracticed Inside. \n  \nNote: You will need to supply your own shells
URL:https://macdougallsportsmen.com/event/spring-shoot-and-raffle/
LOCATION:MacDougall Sportsmen’s Club\, 3800 MacDougall Road\, Waterloo\, NY\, 13165\, United States
CATEGORIES:Trap/Shooting Event
END:VEVENT
BEGIN:VEVENT
DTSTART;TZID=America/New_York:20210321T100000
DTEND;TZID=America/New_York:20210321T140000
DTSTAMP:20260420T114057
CREATED:20210204T145559Z
LAST-MODIFIED:20210204T195532Z
UID:571-1616320800-1616335200@macdougallsportsmen.com
SUMMARY:Trap - Lyons Winter League
DESCRIPTION:The Lyons Winter League for trap shooting continues from November 2020 to the April 11th Shoot Off.
URL:https://macdougallsportsmen.com/event/trap-lyons-winter-league-3-21-21/
LOCATION:MacDougall Sportsmen’s Club\, 3800 MacDougall Road\, Waterloo\, NY\, 13165\, United States
CATEGORIES:Trap/Shooting Event
END:VEVENT
BEGIN:VEVENT
DTSTART;TZID=America/New_York:20210314T100000
DTEND;TZID=America/New_York:20210314T140000
DTSTAMP:20260420T114057
CREATED:20210204T145559Z
LAST-MODIFIED:20210204T195543Z
UID:572-1615716000-1615730400@macdougallsportsmen.com
SUMMARY:Trap - Lyons Winter League
DESCRIPTION:The Lyons Winter League for trap shooting continues from November 2020 to the April 11th Shoot Off.
URL:https://macdougallsportsmen.com/event/trap-lyons-winter-league-3-14-21/
LOCATION:MacDougall Sportsmen’s Club\, 3800 MacDougall Road\, Waterloo\, NY\, 13165\, United States
CATEGORIES:Trap/Shooting Event
END:VEVENT
BEGIN:VEVENT
DTSTART;TZID=America/New_York:20210221T100000
DTEND;TZID=America/New_York:20210221T140000
DTSTAMP:20260420T114057
CREATED:20210204T145559Z
LAST-MODIFIED:20210204T195553Z
UID:569-1613901600-1613916000@macdougallsportsmen.com
SUMMARY:Trap - Lyons Winter League
DESCRIPTION:The Lyons Winter League for trap shooting continues from November 2020 to the April 11th Shoot Off.
URL:https://macdougallsportsmen.com/event/trap-lyons-winter-league-2-21-21/
LOCATION:MacDougall Sportsmen’s Club\, 3800 MacDougall Road\, Waterloo\, NY\, 13165\, United States
CATEGORIES:Trap/Shooting Event
END:VEVENT
BEGIN:VEVENT
DTSTART;TZID=America/New_York:20210214T100000
DTEND;TZID=America/New_York:20210214T140000
DTSTAMP:20260420T114057
CREATED:20210204T145559Z
LAST-MODIFIED:20210204T195602Z
UID:566-1613296800-1613311200@macdougallsportsmen.com
SUMMARY:Trap - Lyons Winter League
DESCRIPTION:The Lyons Winter League for trap shooting continues from November 2020 to the April 11th Shoot Off.
URL:https://macdougallsportsmen.com/event/trap-lyons-winter-league-2-14-21/
LOCATION:MacDougall Sportsmen’s Club\, 3800 MacDougall Road\, Waterloo\, NY\, 13165\, United States
CATEGORIES:Trap/Shooting Event
END:VEVENT
END:VCALENDAR