BEGIN:VCALENDAR
VERSION:2.0
PRODID:-//MacDougall Sportsmen&#039;s Club - ECPv6.15.11//NONSGML v1.0//EN
CALSCALE:GREGORIAN
METHOD:PUBLISH
X-WR-CALNAME:MacDougall Sportsmen&#039;s Club
X-ORIGINAL-URL:https://macdougallsportsmen.com
X-WR-CALDESC:Events for MacDougall Sportsmen&#039;s Club
REFRESH-INTERVAL;VALUE=DURATION:PT1H
X-Robots-Tag:noindex
X-PUBLISHED-TTL:PT1H
BEGIN:VTIMEZONE
TZID:America/New_York
BEGIN:DAYLIGHT
TZOFFSETFROM:-0500
TZOFFSETTO:-0400
TZNAME:EDT
DTSTART:20210314T070000
END:DAYLIGHT
BEGIN:STANDARD
TZOFFSETFROM:-0400
TZOFFSETTO:-0500
TZNAME:EST
DTSTART:20211107T060000
END:STANDARD
BEGIN:DAYLIGHT
TZOFFSETFROM:-0500
TZOFFSETTO:-0400
TZNAME:EDT
DTSTART:20220313T070000
END:DAYLIGHT
BEGIN:STANDARD
TZOFFSETFROM:-0400
TZOFFSETTO:-0500
TZNAME:EST
DTSTART:20221106T060000
END:STANDARD
BEGIN:DAYLIGHT
TZOFFSETFROM:-0500
TZOFFSETTO:-0400
TZNAME:EDT
DTSTART:20230312T070000
END:DAYLIGHT
BEGIN:STANDARD
TZOFFSETFROM:-0400
TZOFFSETTO:-0500
TZNAME:EST
DTSTART:20231105T060000
END:STANDARD
BEGIN:DAYLIGHT
TZOFFSETFROM:-0500
TZOFFSETTO:-0400
TZNAME:EDT
DTSTART:20240310T070000
END:DAYLIGHT
BEGIN:STANDARD
TZOFFSETFROM:-0400
TZOFFSETTO:-0500
TZNAME:EST
DTSTART:20241103T060000
END:STANDARD
END:VTIMEZONE
BEGIN:VEVENT
DTSTART;TZID=America/New_York:20230226T080000
DTEND;TZID=America/New_York:20230226T170000
DTSTAMP:20260419T121700
CREATED:20211228T135641Z
LAST-MODIFIED:20230217T121925Z
UID:1462-1677398400-1677430800@macdougallsportsmen.com
SUMMARY:NRA - Basic Pistol Permit Class
DESCRIPTION:Jim Santos will hold a NRA – Basic Permit Pistol Class on Saturday January 25  & 26 \, 2023 from 8am – 5pm.  This is a 2 day class. \nClass cost: $325.00 \n  \nFor any questions or t sign up for this class please contact Jim at: (607) 738-6527
URL:https://macdougallsportsmen.com/event/nra-basic-pistol-class-2-2-2/
LOCATION:MacDougall Sportsmen’s Club\, 3800 MacDougall Road\, Waterloo\, NY\, 13165\, United States
CATEGORIES:Community Event,Trap/Shooting Event
END:VEVENT
BEGIN:VEVENT
DTSTART;TZID=America/New_York:20230225T080000
DTEND;TZID=America/New_York:20230225T170000
DTSTAMP:20260419T121700
CREATED:20211228T135641Z
LAST-MODIFIED:20230217T121854Z
UID:1460-1677312000-1677344400@macdougallsportsmen.com
SUMMARY:NRA - Basic Pistol Permit Class
DESCRIPTION:Jim Santos will hold a NRA – Basic Permit Pistol Class on Saturday January 25  & 26 \, 2023 from 8am – 5pm.  This is a 2 day class. \nClass cost: $325.00 \n  \nFor any questions or t sign up for this class please contact Jim at: (607) 738-6527
URL:https://macdougallsportsmen.com/event/nra-basic-pistol-class-2-2/
LOCATION:MacDougall Sportsmen’s Club\, 3800 MacDougall Road\, Waterloo\, NY\, 13165\, United States
CATEGORIES:Community Event,Trap/Shooting Event
END:VEVENT
BEGIN:VEVENT
DTSTART;TZID=America/New_York:20230224T160000
DTEND;TZID=America/New_York:20230224T200000
DTSTAMP:20260419T121700
CREATED:20220213T162609Z
LAST-MODIFIED:20230217T115839Z
UID:1438-1677254400-1677268800@macdougallsportsmen.com
SUMMARY:Friday Night Fish Fry
DESCRIPTION:Our Friday Night Fish Fry will be starting February 4\, 2023 and run every Friday from 4pm – 8pm through April 7\, 2023.  Then we will be doing 1 extra Friday Fish Dinner to benefit the Romulus Trap Team on April 14th.  Per-sale tickets will be at the club and you can also see a member of the Romulus Trap Team! \nDine in or Takeout is available (Call 315-585-0155 to order). \nAll Dinners served with French Fries\, Coleslaw\, and Roll \nChoose from: \n\nFresh Haddock Dinner – $16\nShrimp Dinner – $13\nFresh Haddock / Shrimp Dinner (Combo) – $20\nBoneless Chicken Wings – $12\n(Hot\, Mild\, Medium\, BBQ\, and Cattlemen’s)  Sause’s will be on the side for dipping only\n\n\nDelicious Sides: \n\nMozzarella Sticks – $4\nPickle Spears – $5\nFrench Fries – $3\n\nAllergen note: We cook with peanut oil.
URL:https://macdougallsportsmen.com/event/friday-night-fish-fry-3/
LOCATION:MacDougall Sportsmen’s Club\, 3800 MacDougall Road\, Waterloo\, NY\, 13165\, United States
CATEGORIES:Fish Dinners
END:VEVENT
BEGIN:VEVENT
DTSTART;TZID=America/New_York:20230222T183000
DTEND;TZID=America/New_York:20230222T203000
DTSTAMP:20260419T121700
CREATED:20210218T024906Z
LAST-MODIFIED:20230217T122733Z
UID:1466-1677090600-1677097800@macdougallsportsmen.com
SUMMARY:Board Meeting
DESCRIPTION:Board Meeting will be held upstairs from 6:30 – 7:30. \n  \nAll potential new members that put in an application must be present at the board meeting to go through a vetting prosses.
URL:https://macdougallsportsmen.com/event/board-meeting-11-2-2-2-2-2-2-3-2-2-2-3/
LOCATION:MacDougall Sportsmen’s Club\, 3800 MacDougall Road\, Waterloo\, NY\, 13165\, United States
CATEGORIES:Club Meetings
END:VEVENT
BEGIN:VEVENT
DTSTART;TZID=America/New_York:20230219T130000
DTEND;TZID=America/New_York:20230219T200000
DTSTAMP:20260419T121700
CREATED:20220213T173610Z
LAST-MODIFIED:20230217T125015Z
UID:1479-1676811600-1676836800@macdougallsportsmen.com
SUMMARY:Daytona 500 Party
DESCRIPTION:Dayton 500 Party 1pm – 8pm.  Upstairs on the BIG screen!  Bring a dish to pass. \nNote:  Private party downstairs
URL:https://macdougallsportsmen.com/event/private-party-2-2-3-2/
LOCATION:MacDougall Sportsmen’s Club\, 3800 MacDougall Road\, Waterloo\, NY\, 13165\, United States
CATEGORIES:Club Members
END:VEVENT
BEGIN:VEVENT
DTSTART;TZID=America/New_York:20230219T130000
DTEND;TZID=America/New_York:20230219T170000
DTSTAMP:20260419T121700
CREATED:20220213T173610Z
LAST-MODIFIED:20230217T124707Z
UID:1475-1676811600-1676826000@macdougallsportsmen.com
SUMMARY:Private Party
DESCRIPTION:Private party downstairs – 1 – 5 pm
URL:https://macdougallsportsmen.com/event/private-party-2-2-3/
LOCATION:MacDougall Sportsmen’s Club\, 3800 MacDougall Road\, Waterloo\, NY\, 13165\, United States
CATEGORIES:Club Members
END:VEVENT
BEGIN:VEVENT
DTSTART;TZID=America/New_York:20230218T090000
DTEND;TZID=America/New_York:20230218T150000
DTSTAMP:20260419T121700
CREATED:20211228T145354Z
LAST-MODIFIED:20221221T154623Z
UID:1411-1676710800-1676732400@macdougallsportsmen.com
SUMMARY:Winter Poker Shooting League - Banquet
DESCRIPTION:Last Shoot and Banquet! \nSign up and shooting: 9am – Noon \nBanquet\, awards and Steak dinner starts at 1:00pm \nDo not forget to bring all of your cards.  You will need to show your hand!
URL:https://macdougallsportsmen.com/event/winter-poker-shooting-league-2-2-3-2-2-2-2-2/
LOCATION:MacDougall Sportsmen’s Club\, 3800 MacDougall Road\, Waterloo\, NY\, 13165\, United States
CATEGORIES:Trap/Shooting Event
END:VEVENT
BEGIN:VEVENT
DTSTART;TZID=America/New_York:20230217T170000
DTEND;TZID=America/New_York:20230217T200000
DTSTAMP:20260419T121700
CREATED:20210218T024816Z
LAST-MODIFIED:20230217T122906Z
UID:1397-1676653200-1676664000@macdougallsportsmen.com
SUMMARY:Chicken Wing Night - Last Chicken Wings for the Season!
DESCRIPTION:
URL:https://macdougallsportsmen.com/event/chicken-wings-3-2-2-2-3-2-2-2-2-2-2-2-2/
LOCATION:MacDougall Sportsmen’s Club\, 3800 MacDougall Road\, Waterloo\, NY\, 13165\, United States
CATEGORIES:Wing Night
ATTACH;FMTTYPE=image/jpeg:https://macdougallsportsmen.com/wp-content/uploads/2021/02/Chicken-Wing-Flyer-Dates-scaled.jpg
END:VEVENT
BEGIN:VEVENT
DTSTART;TZID=America/New_York:20230210T170000
DTEND;TZID=America/New_York:20230210T200000
DTSTAMP:20260419T121700
CREATED:20210218T024816Z
LAST-MODIFIED:20221221T153107Z
UID:1395-1676048400-1676059200@macdougallsportsmen.com
SUMMARY:Chicken Wing Night
DESCRIPTION:
URL:https://macdougallsportsmen.com/event/chicken-wings-3-2-2-2-3-2-2-2-2-2-2-2/
LOCATION:MacDougall Sportsmen’s Club\, 3800 MacDougall Road\, Waterloo\, NY\, 13165\, United States
CATEGORIES:Wing Night
ATTACH;FMTTYPE=image/jpeg:https://macdougallsportsmen.com/wp-content/uploads/2021/02/Chicken-Wing-Flyer-Dates-scaled.jpg
END:VEVENT
BEGIN:VEVENT
DTSTART;TZID=America/New_York:20230204T090000
DTEND;TZID=America/New_York:20230204T120000
DTSTAMP:20260419T121700
CREATED:20211228T145354Z
LAST-MODIFIED:20221221T154202Z
UID:1409-1675501200-1675512000@macdougallsportsmen.com
SUMMARY:Winter Poker Shooting League
DESCRIPTION:Sign up between: 9am – Noon
URL:https://macdougallsportsmen.com/event/winter-poker-shooting-league-2-2-3-2-2-2-2/
LOCATION:MacDougall Sportsmen’s Club\, 3800 MacDougall Road\, Waterloo\, NY\, 13165\, United States
CATEGORIES:Trap/Shooting Event
END:VEVENT
BEGIN:VEVENT
DTSTART;TZID=America/New_York:20230203T170000
DTEND;TZID=America/New_York:20230203T200000
DTSTAMP:20260419T121700
CREATED:20210218T024816Z
LAST-MODIFIED:20221221T153044Z
UID:1393-1675443600-1675454400@macdougallsportsmen.com
SUMMARY:Chicken Wing Night
DESCRIPTION:
URL:https://macdougallsportsmen.com/event/chicken-wings-3-2-2-2-3-2-2-2-2-2-2/
LOCATION:MacDougall Sportsmen’s Club\, 3800 MacDougall Road\, Waterloo\, NY\, 13165\, United States
CATEGORIES:Wing Night
ATTACH;FMTTYPE=image/jpeg:https://macdougallsportsmen.com/wp-content/uploads/2021/02/Chicken-Wing-Flyer-Dates-scaled.jpg
END:VEVENT
BEGIN:VEVENT
DTSTART;TZID=America/New_York:20230201T140000
DTEND;TZID=America/New_York:20230201T163000
DTSTAMP:20260419T121700
CREATED:20211228T145354Z
LAST-MODIFIED:20221221T154104Z
UID:1405-1675260000-1675269000@macdougallsportsmen.com
SUMMARY:Winter Poker Shooting League
DESCRIPTION:Sign up and shoot: 2pm – dark.
URL:https://macdougallsportsmen.com/event/winter-poker-shooting-league-2-2-3-2-3-2/
LOCATION:MacDougall Sportsmen’s Club\, 3800 MacDougall Road\, Waterloo\, NY\, 13165\, United States
CATEGORIES:Trap/Shooting Event
END:VEVENT
BEGIN:VEVENT
DTSTART;TZID=America/New_York:20230127T170000
DTEND;TZID=America/New_York:20230127T200000
DTSTAMP:20260419T121700
CREATED:20210218T024816Z
LAST-MODIFIED:20221221T153020Z
UID:1391-1674838800-1674849600@macdougallsportsmen.com
SUMMARY:Chicken Wing Night
DESCRIPTION:
URL:https://macdougallsportsmen.com/event/chicken-wings-3-2-2-2-3-2-2-2-2-2/
LOCATION:MacDougall Sportsmen’s Club\, 3800 MacDougall Road\, Waterloo\, NY\, 13165\, United States
CATEGORIES:Wing Night
ATTACH;FMTTYPE=image/jpeg:https://macdougallsportsmen.com/wp-content/uploads/2021/02/Chicken-Wing-Flyer-Dates-scaled.jpg
END:VEVENT
BEGIN:VEVENT
DTSTART;TZID=America/New_York:20230121T090000
DTEND;TZID=America/New_York:20230121T120000
DTSTAMP:20260419T121700
CREATED:20211228T145354Z
LAST-MODIFIED:20221221T154137Z
UID:1407-1674291600-1674302400@macdougallsportsmen.com
SUMMARY:Winter Poker Shooting League
DESCRIPTION:Sign up between: 9am – Noon
URL:https://macdougallsportsmen.com/event/winter-poker-shooting-league-2-2-3-2-2-2/
LOCATION:MacDougall Sportsmen’s Club\, 3800 MacDougall Road\, Waterloo\, NY\, 13165\, United States
CATEGORIES:Trap/Shooting Event
END:VEVENT
BEGIN:VEVENT
DTSTART;TZID=America/New_York:20230120T170000
DTEND;TZID=America/New_York:20230120T200000
DTSTAMP:20260419T121700
CREATED:20210218T024816Z
LAST-MODIFIED:20221221T152957Z
UID:1389-1674234000-1674244800@macdougallsportsmen.com
SUMMARY:Chicken Wing Night
DESCRIPTION:
URL:https://macdougallsportsmen.com/event/chicken-wings-3-2-2-2-3-2-2-2-2/
LOCATION:MacDougall Sportsmen’s Club\, 3800 MacDougall Road\, Waterloo\, NY\, 13165\, United States
CATEGORIES:Wing Night
ATTACH;FMTTYPE=image/jpeg:https://macdougallsportsmen.com/wp-content/uploads/2021/02/Chicken-Wing-Flyer-Dates-scaled.jpg
END:VEVENT
BEGIN:VEVENT
DTSTART;TZID=America/New_York:20230118T140000
DTEND;TZID=America/New_York:20230118T163000
DTSTAMP:20260419T121700
CREATED:20211228T145354Z
LAST-MODIFIED:20221221T154040Z
UID:1403-1674050400-1674059400@macdougallsportsmen.com
SUMMARY:Winter Poker Shooting League
DESCRIPTION:Sign up and shoot: 2pm – dark.
URL:https://macdougallsportsmen.com/event/winter-poker-shooting-league-2-2-3-2-3/
LOCATION:MacDougall Sportsmen’s Club\, 3800 MacDougall Road\, Waterloo\, NY\, 13165\, United States
CATEGORIES:Trap/Shooting Event
END:VEVENT
BEGIN:VEVENT
DTSTART;TZID=America/New_York:20230113T170000
DTEND;TZID=America/New_York:20230113T200000
DTSTAMP:20260419T121700
CREATED:20210218T024816Z
LAST-MODIFIED:20221221T152934Z
UID:1387-1673629200-1673640000@macdougallsportsmen.com
SUMMARY:Chicken Wing Night
DESCRIPTION:
URL:https://macdougallsportsmen.com/event/chicken-wings-3-2-2-2-3-2-2-2/
LOCATION:MacDougall Sportsmen’s Club\, 3800 MacDougall Road\, Waterloo\, NY\, 13165\, United States
CATEGORIES:Wing Night
ATTACH;FMTTYPE=image/jpeg:https://macdougallsportsmen.com/wp-content/uploads/2021/02/Chicken-Wing-Flyer-Dates-scaled.jpg
END:VEVENT
BEGIN:VEVENT
DTSTART;TZID=America/New_York:20230107T090000
DTEND;TZID=America/New_York:20230107T120000
DTSTAMP:20260419T121700
CREATED:20211228T145354Z
LAST-MODIFIED:20221221T153938Z
UID:1401-1673082000-1673092800@macdougallsportsmen.com
SUMMARY:Winter Poker Shooting League
DESCRIPTION:Sign up between: 9am – Noon
URL:https://macdougallsportsmen.com/event/winter-poker-shooting-league-2-2-3-2-2/
LOCATION:MacDougall Sportsmen’s Club\, 3800 MacDougall Road\, Waterloo\, NY\, 13165\, United States
CATEGORIES:Trap/Shooting Event
END:VEVENT
BEGIN:VEVENT
DTSTART;TZID=America/New_York:20230106T170000
DTEND;TZID=America/New_York:20230106T200000
DTSTAMP:20260419T121700
CREATED:20210218T024816Z
LAST-MODIFIED:20221221T152516Z
UID:1383-1673024400-1673035200@macdougallsportsmen.com
SUMMARY:Chicken Wing Night
DESCRIPTION:
URL:https://macdougallsportsmen.com/event/chicken-wings-3-2-2-2-3-2-2/
LOCATION:MacDougall Sportsmen’s Club\, 3800 MacDougall Road\, Waterloo\, NY\, 13165\, United States
CATEGORIES:Wing Night
ATTACH;FMTTYPE=image/jpeg:https://macdougallsportsmen.com/wp-content/uploads/2021/02/Chicken-Wing-Flyer-Dates-scaled.jpg
END:VEVENT
BEGIN:VEVENT
DTSTART;TZID=America/New_York:20230104T140000
DTEND;TZID=America/New_York:20230104T163000
DTSTAMP:20260419T121700
CREATED:20211228T145354Z
LAST-MODIFIED:20221221T153747Z
UID:1399-1672840800-1672849800@macdougallsportsmen.com
SUMMARY:Winter Poker Shooting League
DESCRIPTION:Sign up and shoot times: 2pm – dark.
URL:https://macdougallsportsmen.com/event/winter-poker-shooting-league-2-2-3-2/
LOCATION:MacDougall Sportsmen’s Club\, 3800 MacDougall Road\, Waterloo\, NY\, 13165\, United States
CATEGORIES:Trap/Shooting Event
END:VEVENT
BEGIN:VEVENT
DTSTART;TZID=America/New_York:20230101T080000
DTEND;TZID=America/New_York:20230101T170000
DTSTAMP:20260419T121700
CREATED:20221221T163159Z
LAST-MODIFIED:20221221T163159Z
UID:1432-1672560000-1672592400@macdougallsportsmen.com
SUMMARY:2023 Annual Dues are Due
DESCRIPTION:
URL:https://macdougallsportsmen.com/event/2023-annual-dues-are-due/
LOCATION:MacDougall Sportsmen’s Club\, 3800 MacDougall Road\, Waterloo\, NY\, 13165\, United States
CATEGORIES:Club Members
END:VEVENT
BEGIN:VEVENT
DTSTART;TZID=America/New_York:20221230T170000
DTEND;TZID=America/New_York:20221230T200000
DTSTAMP:20260419T121700
CREATED:20210218T024816Z
LAST-MODIFIED:20221221T152436Z
UID:1378-1672419600-1672430400@macdougallsportsmen.com
SUMMARY:Chicken Wing Night
DESCRIPTION:
URL:https://macdougallsportsmen.com/event/chicken-wings-3-2-2-2-3-2/
LOCATION:MacDougall Sportsmen’s Club\, 3800 MacDougall Road\, Waterloo\, NY\, 13165\, United States
CATEGORIES:Wing Night
ATTACH;FMTTYPE=image/jpeg:https://macdougallsportsmen.com/wp-content/uploads/2021/02/Chicken-Wing-Flyer-Dates-scaled.jpg
END:VEVENT
BEGIN:VEVENT
DTSTART;TZID=America/New_York:20221228T183000
DTEND;TZID=America/New_York:20221228T203000
DTSTAMP:20260419T121700
CREATED:20210218T024906Z
LAST-MODIFIED:20220213T164349Z
UID:1223-1672252200-1672259400@macdougallsportsmen.com
SUMMARY:Board Meeting
DESCRIPTION:Board Meeting will be held upstairs from 6:30 – 7:30.
URL:https://macdougallsportsmen.com/event/board-meeting-11-2-2-2-2-2-2-3-2-2-2-2/
LOCATION:MacDougall Sportsmen’s Club\, 3800 MacDougall Road\, Waterloo\, NY\, 13165\, United States
CATEGORIES:Club Meetings
END:VEVENT
BEGIN:VEVENT
DTSTART;TZID=America/New_York:20221213T173000
DTEND;TZID=America/New_York:20221213T213000
DTSTAMP:20260419T121700
CREATED:20221108T172817Z
LAST-MODIFIED:20221108T172817Z
UID:1372-1670952600-1670967000@macdougallsportsmen.com
SUMMARY:Rochester Personal Defense LLC - Utah/Florida Multi State Carry Permit Course - December 13th
DESCRIPTION:ONE STOP SHOPPING! \nThe Multi State Carry Permit course is what you need to attend if you wish to carry concealed in as many states as possible! Get BOTH is one sitting! \nOUR COURSE FEE INCLUDES ALL OF THE FOLLOWING SERVICES. THERE ARE NO EXTRA OR HIDDEN FEES LIKE OTHER PROVIDERS WILL SURPRISE YOU WITH \n\nThe fully approved and required Utah course curriculum\nThe Florida specific laws and information\nFingerprint card and services for Utah\nFingerprint card and services for Florida\nApplication form for Utah\nApplication form for Florida\nPre addressed envelopes for both states\nTWO Photographs.\n\nOur course will provide you with the correct training\, the right way\, (No shortcuts or tricks) to assist you in your application process for the permits. \nIn this lecture\, we will cover the specific laws of each state\, firearms safety\, mindset\, methods for effective carry\, de-escalation\, basic firearms skills\, and more. \nFlorida requires the following proof of training and competency to apply: a certificate from an NRA Basic Firearms class\, a DD-214 from the military\, a certificate from a hunters safety training course\, or a letter or certificate issued by a certified instructor stating that you have completed a session that includes live-fire and competency with a handgun. There are many other options that Florida will accept\, but if you want to be sure\, contact us by phone or email. WE can provide the live fire certificate if you need one. All you have to do is set up a short range session with us and you’re all set! \nIf you have already attended one of our handgun training classes\, you just need to submit a copy of the certificate from the class. \nPLEASE NOTE: YOU DO NOT HAVE TO POSSESS THE PROOF OF TRAINING BEFORE THE DATE OF THE CLASS. YOU MUST OBTAIN THAT PROOF BEFORE YOU SEND IN YOUR APPLICATION AND FEES. \n  \nOnce you have obtained your Utah and Florida permits\, combined with your New York permit\, you will be legal to carry in the following states: \nAlabama\, Alaska\, Arizona\, Arkansas\, Delaware\, Florida\, Georgia\, Idaho\, Indiana\, Iowa\, Kansas\, Kentucky\, Louisiana\, *Maine\, Michigan\, Mississippi\, Missouri\, Montana\, Nebraska\, New *Hampshire\, New Mexico\, New York\, Nevada\, North Carolina\, North Dakota\, Ohio\, Oklahoma\, South Dakota\, Tennessee\, Texas\, Utah\, Vermont\, Virginia\, Washington\, West Virginia\, Wisconsin\, Wyoming (updated February 2019) \n\nSubjects Covered\nUTAH PERMIT\nThe Utah specific laws\, and regulations\nYour photograph\nFingerprint service\nPre-addressed envelope\nFLORIDA PERMIT\nThe Florida specific law sections\nFingerprinting services\nYour photograph\nPre-addressed envelope\n\nRequired Equipment:\nFor this class\, you will need the following items:\n\nYour State Drivers License\nA black ink pen\nNote taking materials\n\n\nNOTES:\n\nThe Utah permit is renewable every 5 years. Utah’s permit application fee: 63.25 for the initial application and renewals are 25.75.\nStarting May 29\, 2019\, all applicants for renewal of their concealed firearm permit are required to watch a firearms safety/ suicide prevention video prior to submitting application\, whether submitting online\, by mail\, or in person. The video is available in the online renewal process and on our forms web page.\nThe Florida permit is renewable every 7 years. Florida’s permit application fee: 97.00 (not included in the cost of the class) The renewal fee is now 87.00\n\n\nPrerequisites: \nAlthough we will have copies of the applications at the class\, in order to save time on your end\, we suggest obtaining the permit packages ahead of time.\nYou will not need to download the Utah application. We will provide one for you at the class.\nYou can either download the Florida paperwork OR you can order them\nby mail from this link:\nhttp://licensing.freshfromflorida.com/forms/formsrequest790.aspx (Click\non “CW Download)\nIf you order the Florida paperwork by mail\, allow at least 10 days for the packet to arrive. YOU DO NOT NEED TO ORDER FINGERPRINT CARDS. WE WILL PROVIDE THEM.
URL:https://macdougallsportsmen.com/event/rochester-personal-defense-llc-utah-florida-multi-state-carry-permit-course-december-13th/
LOCATION:NY
END:VEVENT
BEGIN:VEVENT
DTSTART;TZID=America/New_York:20221210T160000
DTEND;TZID=America/New_York:20221210T200000
DTSTAMP:20260419T121700
CREATED:20210218T024348Z
LAST-MODIFIED:20220213T165118Z
UID:1234-1670688000-1670702400@macdougallsportsmen.com
SUMMARY:Kids Christmas Party
DESCRIPTION:Crafts will begin at 4pm followed by dinner at 5 and Santa at 6.
URL:https://macdougallsportsmen.com/event/kids-christmas-party-2/
LOCATION:MacDougall Sportsmen’s Club\, 3800 MacDougall Road\, Waterloo\, NY\, 13165\, United States
CATEGORIES:Community Event
END:VEVENT
BEGIN:VEVENT
DTSTART;TZID=America/New_York:20221206T190000
DTEND;TZID=America/New_York:20221206T210000
DTSTAMP:20260419T121700
CREATED:20210218T024148Z
LAST-MODIFIED:20220213T164732Z
UID:1232-1670353200-1670360400@macdougallsportsmen.com
SUMMARY:Members Meeting
DESCRIPTION:Members meeting held upstairs from 7pm – 9pm.  All current members are welcome to attend. \nAnnual Meeting – Elections \n  \n 
URL:https://macdougallsportsmen.com/event/members-meeting-8-2-2-2-2-2-2-2-2-2/
LOCATION:MacDougall Sportsmen’s Club\, 3800 MacDougall Road\, Waterloo\, NY\, 13165\, United States
CATEGORIES:Club Meetings
END:VEVENT
BEGIN:VEVENT
DTSTART;TZID=America/New_York:20221130T183000
DTEND;TZID=America/New_York:20221130T203000
DTSTAMP:20260419T121700
CREATED:20210218T024906Z
LAST-MODIFIED:20220213T164328Z
UID:1221-1669833000-1669840200@macdougallsportsmen.com
SUMMARY:Board Meeting
DESCRIPTION:Board Meeting will be held upstairs from 6:30 – 7:30.
URL:https://macdougallsportsmen.com/event/board-meeting-11-2-2-2-2-2-2-3-2-2-2/
LOCATION:MacDougall Sportsmen’s Club\, 3800 MacDougall Road\, Waterloo\, NY\, 13165\, United States
CATEGORIES:Club Meetings
END:VEVENT
BEGIN:VEVENT
DTSTART;TZID=America/New_York:20221130T140000
DTEND;TZID=America/New_York:20221130T163000
DTSTAMP:20260419T121700
CREATED:20211228T145354Z
LAST-MODIFIED:20221108T171445Z
UID:1370-1669816800-1669825800@macdougallsportsmen.com
SUMMARY:Winter Poker Shooting League
DESCRIPTION:Sign up and shoot times: 2pm – dark.
URL:https://macdougallsportsmen.com/event/winter-poker-shooting-league-2-2-3/
LOCATION:MacDougall Sportsmen’s Club\, 3800 MacDougall Road\, Waterloo\, NY\, 13165\, United States
CATEGORIES:Trap/Shooting Event
END:VEVENT
BEGIN:VEVENT
DTSTART;TZID=America/New_York:20221112T100000
DTEND;TZID=America/New_York:20221112T180000
DTSTAMP:20260419T121700
CREATED:20210218T023307Z
LAST-MODIFIED:20221108T171135Z
UID:1245-1668247200-1668276000@macdougallsportsmen.com
SUMMARY:Fall Shoot
DESCRIPTION:MacDougall Sportsmen’s Club \n 2022 Fall Turkey Shoot & Raffle \n Saturday November 12th \nStarting time: 10:00AM till dark \nMacDougall Sportsmen’s Club \n3800 MacDougall Rd \nWaterloo\, NY 13165 \n315-585-0155 \n Shotgun\, Rifle & Pistol \n 100 Yard – Long Shot (shotgun & rifle) \nTrap – High Gun \nSkeet – High Gun \nPistol – Pie Plate \n14 and under w/adult\, prizes given \nRaffles \nTurkey \nShrimp \nFood and refreshments available
URL:https://macdougallsportsmen.com/event/fall-shoot-2/
LOCATION:MacDougall Sportsmen’s Club\, 3800 MacDougall Road\, Waterloo\, NY\, 13165\, United States
CATEGORIES:Trap/Shooting Event
END:VEVENT
BEGIN:VEVENT
DTSTART;TZID=America/New_York:20221101T190000
DTEND;TZID=America/New_York:20221101T210000
DTSTAMP:20260419T121700
CREATED:20210218T024148Z
LAST-MODIFIED:20220213T164646Z
UID:1230-1667329200-1667336400@macdougallsportsmen.com
SUMMARY:Members Meeting
DESCRIPTION:Members meeting held upstairs from 7pm – 9pm.  All current members are welcome to attend. \nNominations of officers. \n  \n 
URL:https://macdougallsportsmen.com/event/members-meeting-8-2-2-2-2-2-2-2-2/
LOCATION:MacDougall Sportsmen’s Club\, 3800 MacDougall Road\, Waterloo\, NY\, 13165\, United States
CATEGORIES:Club Meetings
END:VEVENT
END:VCALENDAR