BEGIN:VCALENDAR
VERSION:2.0
PRODID:-//MacDougall Sportsmen&#039;s Club - ECPv6.15.11//NONSGML v1.0//EN
CALSCALE:GREGORIAN
METHOD:PUBLISH
X-WR-CALNAME:MacDougall Sportsmen&#039;s Club
X-ORIGINAL-URL:https://macdougallsportsmen.com
X-WR-CALDESC:Events for MacDougall Sportsmen&#039;s Club
REFRESH-INTERVAL;VALUE=DURATION:PT1H
X-Robots-Tag:noindex
X-PUBLISHED-TTL:PT1H
BEGIN:VTIMEZONE
TZID:America/New_York
BEGIN:DAYLIGHT
TZOFFSETFROM:-0500
TZOFFSETTO:-0400
TZNAME:EDT
DTSTART:20210314T070000
END:DAYLIGHT
BEGIN:STANDARD
TZOFFSETFROM:-0400
TZOFFSETTO:-0500
TZNAME:EST
DTSTART:20211107T060000
END:STANDARD
BEGIN:DAYLIGHT
TZOFFSETFROM:-0500
TZOFFSETTO:-0400
TZNAME:EDT
DTSTART:20220313T070000
END:DAYLIGHT
BEGIN:STANDARD
TZOFFSETFROM:-0400
TZOFFSETTO:-0500
TZNAME:EST
DTSTART:20221106T060000
END:STANDARD
BEGIN:DAYLIGHT
TZOFFSETFROM:-0500
TZOFFSETTO:-0400
TZNAME:EDT
DTSTART:20230312T070000
END:DAYLIGHT
BEGIN:STANDARD
TZOFFSETFROM:-0400
TZOFFSETTO:-0500
TZNAME:EST
DTSTART:20231105T060000
END:STANDARD
END:VTIMEZONE
BEGIN:VEVENT
DTSTART;TZID=America/New_York:20220503T163000
DTEND;TZID=America/New_York:20220503T183000
DTSTAMP:20260419T223140
CREATED:20220412T180103Z
LAST-MODIFIED:20220412T182011Z
UID:1315-1651595400-1651602600@macdougallsportsmen.com
SUMMARY:Romulus Clay Target Team
DESCRIPTION:Team Practice – 4:30pm
URL:https://macdougallsportsmen.com/event/romulus-clay-target-team-2-2-2-5/
LOCATION:MacDougall Sportsmen’s Club\, 3800 MacDougall Road\, Waterloo\, NY\, 13165\, United States
CATEGORIES:Trap/Shooting Event
END:VEVENT
BEGIN:VEVENT
DTSTART;TZID=America/New_York:20220430T100000
DTEND;TZID=America/New_York:20220430T120000
DTSTAMP:20260419T223140
CREATED:20220412T180103Z
LAST-MODIFIED:20220412T181052Z
UID:1305-1651312800-1651320000@macdougallsportsmen.com
SUMMARY:Romulus Clay Target Team
DESCRIPTION:Competition Week 2 – Shoot for score – 10 am
URL:https://macdougallsportsmen.com/event/romulus-clay-target-team-2-2-2-4/
LOCATION:MacDougall Sportsmen’s Club\, 3800 MacDougall Road\, Waterloo\, NY\, 13165\, United States
CATEGORIES:Trap/Shooting Event
END:VEVENT
BEGIN:VEVENT
DTSTART;VALUE=DATE:20220430
DTEND;VALUE=DATE:20220501
DTSTAMP:20260419T223140
CREATED:20220213T173610Z
LAST-MODIFIED:20220213T173857Z
UID:1256-1651276800-1651363199@macdougallsportsmen.com
SUMMARY:Private Party
DESCRIPTION:
URL:https://macdougallsportsmen.com/event/private-party/
LOCATION:MacDougall Sportsmen’s Club\, 3800 MacDougall Road\, Waterloo\, NY\, 13165\, United States
CATEGORIES:Club Members
END:VEVENT
BEGIN:VEVENT
DTSTART;TZID=America/New_York:20220427T183000
DTEND;TZID=America/New_York:20220427T203000
DTSTAMP:20260419T223140
CREATED:20210218T024906Z
LAST-MODIFIED:20220213T163943Z
UID:1207-1651084200-1651091400@macdougallsportsmen.com
SUMMARY:Board Meeting
DESCRIPTION:Board Meeting will be held upstairs from 6:30 – 7:30.
URL:https://macdougallsportsmen.com/event/board-meeting-11-2-2-2-2/
LOCATION:MacDougall Sportsmen’s Club\, 3800 MacDougall Road\, Waterloo\, NY\, 13165\, United States
CATEGORIES:Club Meetings
END:VEVENT
BEGIN:VEVENT
DTSTART;TZID=America/New_York:20220426T163000
DTEND;TZID=America/New_York:20220426T183000
DTSTAMP:20260419T223140
CREATED:20220412T180103Z
LAST-MODIFIED:20220412T180534Z
UID:1299-1650990600-1650997800@macdougallsportsmen.com
SUMMARY:Romulus Clay Target Team
DESCRIPTION:Team Practice – 4:30pm
URL:https://macdougallsportsmen.com/event/romulus-clay-target-team-2-2-2/
LOCATION:MacDougall Sportsmen’s Club\, 3800 MacDougall Road\, Waterloo\, NY\, 13165\, United States
CATEGORIES:Trap/Shooting Event
END:VEVENT
BEGIN:VEVENT
DTSTART;TZID=America/New_York:20220423T150000
DTEND;TZID=America/New_York:20220423T210000
DTSTAMP:20260419T223140
CREATED:20211228T144404Z
LAST-MODIFIED:20220316T191952Z
UID:1118-1650726000-1650747600@macdougallsportsmen.com
SUMMARY:Whitetail Obsession Buck Club Dinner - Buck Club Members Only!
DESCRIPTION:Whitetail Obsession Buck Club Dinner will be on April 23\, 2022\, start time is 3pm for snacks and cocktails followed by dinner and awards banquet. This event is only for members of the Whitetail Obsession Buck Club!
URL:https://macdougallsportsmen.com/event/whitetail-obsession-buck-club-dinner/
LOCATION:MacDougall Sportsmen’s Club\, 3800 MacDougall Road\, Waterloo\, NY\, 13165\, United States
CATEGORIES:Trap/Shooting Event
END:VEVENT
BEGIN:VEVENT
DTSTART;TZID=America/New_York:20220423T100000
DTEND;TZID=America/New_York:20220423T120000
DTSTAMP:20260419T223140
CREATED:20220412T180103Z
LAST-MODIFIED:20220412T180916Z
UID:1303-1650708000-1650715200@macdougallsportsmen.com
SUMMARY:Romulus Clay Target Team
DESCRIPTION:Competition Week 1 – Shoot for score – 10 am
URL:https://macdougallsportsmen.com/event/romulus-clay-target-team-2-2-2-3/
LOCATION:MacDougall Sportsmen’s Club\, 3800 MacDougall Road\, Waterloo\, NY\, 13165\, United States
CATEGORIES:Trap/Shooting Event
END:VEVENT
BEGIN:VEVENT
DTSTART;TZID=America/New_York:20220419T163000
DTEND;TZID=America/New_York:20220419T183000
DTSTAMP:20260419T223140
CREATED:20220412T180103Z
LAST-MODIFIED:20220412T180412Z
UID:1297-1650385800-1650393000@macdougallsportsmen.com
SUMMARY:Romulus Clay Target Team
DESCRIPTION:Team Practice – 4:30pm
URL:https://macdougallsportsmen.com/event/romulus-clay-target-team-2-2/
LOCATION:MacDougall Sportsmen’s Club\, 3800 MacDougall Road\, Waterloo\, NY\, 13165\, United States
CATEGORIES:Trap/Shooting Event
END:VEVENT
BEGIN:VEVENT
DTSTART;TZID=America/New_York:20220416T100000
DTEND;TZID=America/New_York:20220416T120000
DTSTAMP:20260419T223140
CREATED:20220412T180103Z
LAST-MODIFIED:20220412T180741Z
UID:1301-1650103200-1650110400@macdougallsportsmen.com
SUMMARY:Romulus Clay Target Team
DESCRIPTION:Team Shoot – Reserve Week – 10:00 am
URL:https://macdougallsportsmen.com/event/romulus-clay-target-team-2-2-2-2/
LOCATION:MacDougall Sportsmen’s Club\, 3800 MacDougall Road\, Waterloo\, NY\, 13165\, United States
CATEGORIES:Trap/Shooting Event
END:VEVENT
BEGIN:VEVENT
DTSTART;TZID=America/New_York:20220415T160000
DTEND;TZID=America/New_York:20220415T200000
DTSTAMP:20260419T223140
CREATED:20220213T162609Z
LAST-MODIFIED:20220304T145605Z
UID:1189-1650038400-1650052800@macdougallsportsmen.com
SUMMARY:Friday Night Fish Fry
DESCRIPTION:Our Friday Night Fish Fry will be starting March 4\, 2022 and run every Friday from 4pm – 8pm through April 15\, 2022. \nDine in or Takeout is available (Call 315-585-6732 to order). \nAll Dinners served with French Fries\, Coleslaw\, and Roll \nChoose from: \n\nFresh Haddock Dinner – $15\nShrimp Dinner – $12\nFresh Haddock / Shrimp Dinner (Combo) – $19\nBoneless Chicken Wings – $12\n(Hot\, Medium\, BBQ\, and Cattlemen’s)\n\n\nDelicious Sides: \n\nMozzarella Sticks – $4\nJalapeno Poppers – $5\nFrench Fries – $3\n\nAllergen note: We cook with peanut oil.
URL:https://macdougallsportsmen.com/event/friday-night-fish-fry-2-2-2-2-2/
LOCATION:MacDougall Sportsmen’s Club\, 3800 MacDougall Road\, Waterloo\, NY\, 13165\, United States
CATEGORIES:Fish Dinners
END:VEVENT
BEGIN:VEVENT
DTSTART;TZID=America/New_York:20220409T170000
DTEND;TZID=America/New_York:20220409T190000
DTSTAMP:20260419T223140
CREATED:20220412T180103Z
LAST-MODIFIED:20220412T180240Z
UID:1295-1649523600-1649530800@macdougallsportsmen.com
SUMMARY:Romulus Clay Target Team
DESCRIPTION:Team Practice – 5:00pm
URL:https://macdougallsportsmen.com/event/romulus-clay-target-team-2/
LOCATION:MacDougall Sportsmen’s Club\, 3800 MacDougall Road\, Waterloo\, NY\, 13165\, United States
CATEGORIES:Trap/Shooting Event
END:VEVENT
BEGIN:VEVENT
DTSTART;TZID=America/New_York:20220409T100000
DTEND;TZID=America/New_York:20220409T180000
DTSTAMP:20260419T223140
CREATED:20220213T165807Z
LAST-MODIFIED:20220213T170455Z
UID:1136-1649498400-1649527200@macdougallsportsmen.com
SUMMARY:Spring Shoot & Raffle
DESCRIPTION:MacDougall Sportsmen’s Club \n 2022 Shoot Shoot & Raffle (Ham & Shrimp) \n Saturday April 9th \nStarting time: 10:00AM till dark \nMacDougall Sportsmen’s Club \n3800 MacDougall Rd \nWaterloo\, NY 13165 \n315-585-6732 \n Shotgun\, Rifle & Pistol \n 100 Yard – Long Shot (shotgun & rifle) \nTrap – High Gun \nSkeet – High Gun \nPistol – Pie Plate \n14 and under w/adult\, prizes given \nRaffles \nHam \nShrimp \nFood and refreshments available
URL:https://macdougallsportsmen.com/event/spring-shoot-raffle/
LOCATION:MacDougall Sportsmen’s Club\, 3800 MacDougall Road\, Waterloo\, NY\, 13165\, United States
CATEGORIES:Community Event,Trap/Shooting Event
END:VEVENT
BEGIN:VEVENT
DTSTART;TZID=America/New_York:20220408T160000
DTEND;TZID=America/New_York:20220408T200000
DTSTAMP:20260419T223140
CREATED:20220213T162609Z
LAST-MODIFIED:20220304T150633Z
UID:1187-1649433600-1649448000@macdougallsportsmen.com
SUMMARY:Friday Night Fish Fry
DESCRIPTION:Our Friday Night Fish Fry will be starting March 4\, 2022 and run every Friday from 4pm – 8pm through April 15\, 2022. \nDine in or Takeout is available (Call 315-585-6732 to order). \nAll Dinners served with French Fries\, Coleslaw\, and Roll \nChoose from: \n\nFresh Haddock Dinner – $15\nShrimp Dinner – $12\nFresh Haddock / Shrimp Dinner (Combo) – $19\nBoneless Chicken Wings – $12\n(Hot\, Medium\, BBQ\, and Cattlemen’s)\n\n\nDelicious Sides: \n\nMozzarella Sticks – $4\nJalapeno Poppers – $5\nFrench Fries – $3\n\nAllergen note: We cook with peanut oil.
URL:https://macdougallsportsmen.com/event/friday-night-fish-fry-2-2-2-2/
LOCATION:MacDougall Sportsmen’s Club\, 3800 MacDougall Road\, Waterloo\, NY\, 13165\, United States
CATEGORIES:Fish Dinners
END:VEVENT
BEGIN:VEVENT
DTSTART;TZID=America/New_York:20220405T190000
DTEND;TZID=America/New_York:20220405T210000
DTSTAMP:20260419T223140
CREATED:20210218T024148Z
LAST-MODIFIED:20220213T163409Z
UID:1196-1649185200-1649192400@macdougallsportsmen.com
SUMMARY:Members Meeting
DESCRIPTION:Members meeting held upstairs from 7pm – 9pm.  All current members are welcome to attend.
URL:https://macdougallsportsmen.com/event/members-meeting-8-2-2-2/
LOCATION:MacDougall Sportsmen’s Club\, 3800 MacDougall Road\, Waterloo\, NY\, 13165\, United States
CATEGORIES:Club Meetings
END:VEVENT
BEGIN:VEVENT
DTSTART;TZID=America/New_York:20220405T163000
DTEND;TZID=America/New_York:20220405T183000
DTSTAMP:20260419T223140
CREATED:20220412T180103Z
LAST-MODIFIED:20220412T180103Z
UID:1293-1649176200-1649183400@macdougallsportsmen.com
SUMMARY:Romulus Clay Target Team
DESCRIPTION:Team Practice – 4:30pm
URL:https://macdougallsportsmen.com/event/romulus-clay-target-team/
LOCATION:MacDougall Sportsmen’s Club\, 3800 MacDougall Road\, Waterloo\, NY\, 13165\, United States
CATEGORIES:Trap/Shooting Event
END:VEVENT
BEGIN:VEVENT
DTSTART;TZID=America/New_York:20220401T160000
DTEND;TZID=America/New_York:20220401T200000
DTSTAMP:20260419T223140
CREATED:20220213T162609Z
LAST-MODIFIED:20220304T150544Z
UID:1185-1648828800-1648843200@macdougallsportsmen.com
SUMMARY:Friday Night Fish Fry
DESCRIPTION:Our Friday Night Fish Fry will be starting March 4\, 2022 and run every Friday from 4pm – 8pm through April 15\, 2022. \nDine in or Takeout is available (Call 315-585-6732 to order). \nAll Dinners served with French Fries\, Coleslaw\, and Roll \nChoose from: \n\nFresh Haddock Dinner – $15\nShrimp Dinner – $12\nFresh Haddock / Shrimp Dinner (Combo) – $19\nBoneless Chicken Wings – $12\n(Hot\, Medium\, BBQ\, and Cattlemen’s)\n\n\nDelicious Sides: \n\nMozzarella Sticks – $4\nJalapeno Poppers – $5\nFrench Fries – $3\n\nAllergen note: We cook with peanut oil.
URL:https://macdougallsportsmen.com/event/friday-night-fish-fry-2-2-2/
LOCATION:MacDougall Sportsmen’s Club\, 3800 MacDougall Road\, Waterloo\, NY\, 13165\, United States
CATEGORIES:Fish Dinners
END:VEVENT
BEGIN:VEVENT
DTSTART;TZID=America/New_York:20220330T183000
DTEND;TZID=America/New_York:20220330T203000
DTSTAMP:20260419T223140
CREATED:20210218T024906Z
LAST-MODIFIED:20220213T163909Z
UID:1205-1648665000-1648672200@macdougallsportsmen.com
SUMMARY:Board Meeting
DESCRIPTION:Board Meeting will be held upstairs from 6:30 – 7:30.
URL:https://macdougallsportsmen.com/event/board-meeting-11-2-2-2/
LOCATION:MacDougall Sportsmen’s Club\, 3800 MacDougall Road\, Waterloo\, NY\, 13165\, United States
CATEGORIES:Club Meetings
END:VEVENT
BEGIN:VEVENT
DTSTART;TZID=America/New_York:20220325T160000
DTEND;TZID=America/New_York:20220325T200000
DTSTAMP:20260419T223140
CREATED:20220213T162609Z
LAST-MODIFIED:20220304T150446Z
UID:1183-1648224000-1648238400@macdougallsportsmen.com
SUMMARY:Friday Night Fish Fry
DESCRIPTION:Our Friday Night Fish Fry will be starting March 4\, 2022 and run every Friday from 4pm – 8pm through April 15\, 2022. \nDine in or Takeout is available (Call 315-585-6732 to order). \nAll Dinners served with French Fries\, Coleslaw\, and Roll \nChoose from: \n\nFresh Haddock Dinner – $15\nShrimp Dinner – $12\nFresh Haddock / Shrimp Dinner (Combo) – $19\nBoneless Chicken Wings – $12\n(Hot\, Medium\, BBQ\, and Cattlemen’s)\n\n\nDelicious Sides: \n\nMozzarella Sticks – $4\nJalapeno Poppers – $5\nFrench Fries – $3\n\nAllergen note: We cook with peanut oil.
URL:https://macdougallsportsmen.com/event/friday-night-fish-fry-2-2/
LOCATION:MacDougall Sportsmen’s Club\, 3800 MacDougall Road\, Waterloo\, NY\, 13165\, United States
CATEGORIES:Fish Dinners
END:VEVENT
BEGIN:VEVENT
DTSTART;TZID=America/New_York:20220318T160000
DTEND;TZID=America/New_York:20220318T200000
DTSTAMP:20260419T223140
CREATED:20220213T162609Z
LAST-MODIFIED:20220304T150334Z
UID:1191-1647619200-1647633600@macdougallsportsmen.com
SUMMARY:Friday Night Fish Fry
DESCRIPTION:Our Friday Night Fish Fry will be starting March 4\, 2022 and run every Friday from 4pm – 8pm through April 15\, 2022. \nDine in or Takeout is available (Call 315-585-6732 to order). \nAll Dinners served with French Fries\, Coleslaw\, and Roll \nChoose from: \n\nFresh Haddock Dinner – $15\nShrimp Dinner – $12\nFresh Haddock / Shrimp Dinner (Combo) – $19\nBoneless Chicken Wings – $12\n(Hot\, Medium\, BBQ\, and Cattlemen’s)\n\n\nDelicious Sides: \n\nMozzarella Sticks – $4\nJalapeno Poppers – $5\nFrench Fries – $3\n\nAllergen note: We cook with peanut oil.
URL:https://macdougallsportsmen.com/event/friday-night-fish-fry-2-3/
LOCATION:MacDougall Sportsmen’s Club\, 3800 MacDougall Road\, Waterloo\, NY\, 13165\, United States
CATEGORIES:Fish Dinners
END:VEVENT
BEGIN:VEVENT
DTSTART;TZID=America/New_York:20220312T170000
DTEND;TZID=America/New_York:20220312T190000
DTSTAMP:20260419T223140
CREATED:20220113T142927Z
LAST-MODIFIED:20220213T174345Z
UID:1260-1647104400-1647111600@macdougallsportsmen.com
SUMMARY:Steak Night
DESCRIPTION:MacDougall Sportsmen’s Club \n “Steak Dinner” \n Saturday Night – Steak Night! \n2nd Saturday of the following months  \nFebruary\, March\, September & October   \nDinner will be served from 5pm – 7pm  \nNY Strip (12oz.)  \nRibeye (16oz.) \n   \nAll dinners are served with the following \nBaked potato\, mushrooms\, vegetable of the day\, garden salad & dinner roll.  \nYou will need to purchase a pre order dinner ticket to get a dinner.  Cut off date is the 1st Friday of each month.  Only 50 dinners will be available.  All is available for dine in or take out
URL:https://macdougallsportsmen.com/event/steak-night-2/
LOCATION:MacDougall Sportsmen’s Club\, 3800 MacDougall Road\, Waterloo\, NY\, 13165\, United States
CATEGORIES:Community Event,Steak Night
ATTACH;FMTTYPE=application/pdf:https://macdougallsportsmen.com/wp-content/uploads/2022/01/Steak-Night-1.pdf
END:VEVENT
BEGIN:VEVENT
DTSTART;TZID=America/New_York:20220311T160000
DTEND;TZID=America/New_York:20220311T200000
DTSTAMP:20260419T223140
CREATED:20220213T162609Z
LAST-MODIFIED:20220304T145957Z
UID:1181-1647014400-1647028800@macdougallsportsmen.com
SUMMARY:Friday Night Fish Fry
DESCRIPTION:Our Friday Night Fish Fry will be starting March 4\, 2022 and run every Friday from 4pm – 8pm through April 15\, 2022. \nDine in or Takeout is available (Call 315-585-6732 to order). \nAll Dinners served with French Fries\, Coleslaw\, and Roll \nChoose from: \n\nFresh Haddock Dinner – $15\nShrimp Dinner – $12\nFresh Haddock / Shrimp Dinner (Combo) – $19\nBoneless Chicken Wings – $12\n(Hot\, Medium\, BBQ\, and Cattlemen’s)\n\n\nDelicious Sides: \n\nMozzarella Sticks – $4\nJalapeno Poppers – $5\nFrench Fries – $3\n\nAllergen note: We cook with peanut oil.
URL:https://macdougallsportsmen.com/event/friday-night-fish-fry-2/
LOCATION:MacDougall Sportsmen’s Club\, 3800 MacDougall Road\, Waterloo\, NY\, 13165\, United States
CATEGORIES:Fish Dinners
END:VEVENT
BEGIN:VEVENT
DTSTART;TZID=America/New_York:20220304T160000
DTEND;TZID=America/New_York:20220304T200000
DTSTAMP:20260419T223140
CREATED:20220213T162609Z
LAST-MODIFIED:20220304T150218Z
UID:1179-1646409600-1646424000@macdougallsportsmen.com
SUMMARY:Friday Night Fish Fry
DESCRIPTION:Our Friday Night Fish Fry will be starting March 4\, 2022 and run every Friday from 4pm – 8pm through April 15\, 2022. \nDine in or Takeout is available (Call 315-585-6732 to order). \nAll Dinners served with French Fries\, Coleslaw\, and Roll \nChoose from: \n\nFresh Haddock Dinner – $15\nShrimp Dinner – $12\nFresh Haddock / Shrimp Dinner (Combo) – $19\nBoneless Chicken Wings – $12\n(Hot\, Medium\, BBQ\, and Cattlemen’s)\n\n\nDelicious Sides: \n\nMozzarella Sticks – $4\nJalapeno Poppers – $5\nFrench Fries – $3\n\nAllergen note: We cook with peanut oil.
URL:https://macdougallsportsmen.com/event/friday-night-fish-fry/
LOCATION:MacDougall Sportsmen’s Club\, 3800 MacDougall Road\, Waterloo\, NY\, 13165\, United States
CATEGORIES:Fish Dinners
END:VEVENT
BEGIN:VEVENT
DTSTART;TZID=America/New_York:20220301T190000
DTEND;TZID=America/New_York:20220301T210000
DTSTAMP:20260419T223140
CREATED:20210218T024148Z
LAST-MODIFIED:20220213T163314Z
UID:1193-1646161200-1646168400@macdougallsportsmen.com
SUMMARY:Members Meeting
DESCRIPTION:Members meeting held upstairs from 7pm – 9pm.  All current members are welcome to attend.
URL:https://macdougallsportsmen.com/event/members-meeting-8-2-2/
LOCATION:MacDougall Sportsmen’s Club\, 3800 MacDougall Road\, Waterloo\, NY\, 13165\, United States
CATEGORIES:Club Meetings
END:VEVENT
BEGIN:VEVENT
DTSTART;TZID=America/New_York:20220225T170000
DTEND;TZID=America/New_York:20220225T200000
DTSTAMP:20260419T223140
CREATED:20210218T024816Z
LAST-MODIFIED:20220213T162224Z
UID:1177-1645808400-1645819200@macdougallsportsmen.com
SUMMARY:Chicken Wing Night
DESCRIPTION:
URL:https://macdougallsportsmen.com/event/chicken-wings-3-2-2-2-3/
LOCATION:MacDougall Sportsmen’s Club\, 3800 MacDougall Road\, Waterloo\, NY\, 13165\, United States
CATEGORIES:Wing Night
END:VEVENT
BEGIN:VEVENT
DTSTART;TZID=America/New_York:20220223T183000
DTEND;TZID=America/New_York:20220223T203000
DTSTAMP:20260419T223140
CREATED:20210218T024906Z
LAST-MODIFIED:20220213T163839Z
UID:1203-1645641000-1645648200@macdougallsportsmen.com
SUMMARY:Board Meeting
DESCRIPTION:Board Meeting will be held upstairs from 6:30 – 7:30.
URL:https://macdougallsportsmen.com/event/board-meeting-11-2-2/
LOCATION:MacDougall Sportsmen’s Club\, 3800 MacDougall Road\, Waterloo\, NY\, 13165\, United States
CATEGORIES:Club Meetings
END:VEVENT
BEGIN:VEVENT
DTSTART;TZID=America/New_York:20220218T170000
DTEND;TZID=America/New_York:20220218T200000
DTSTAMP:20260419T223140
CREATED:20210218T024816Z
LAST-MODIFIED:20220213T162149Z
UID:1112-1645203600-1645214400@macdougallsportsmen.com
SUMMARY:Chicken Wing Night
DESCRIPTION:
URL:https://macdougallsportsmen.com/event/chicken-wings-3-2-2-2-2/
LOCATION:MacDougall Sportsmen’s Club\, 3800 MacDougall Road\, Waterloo\, NY\, 13165\, United States
CATEGORIES:Wing Night
END:VEVENT
BEGIN:VEVENT
DTSTART;TZID=America/New_York:20220212T170000
DTEND;TZID=America/New_York:20220212T190000
DTSTAMP:20260419T223140
CREATED:20220113T142927Z
LAST-MODIFIED:20220113T142927Z
UID:1147-1644685200-1644692400@macdougallsportsmen.com
SUMMARY:Steak Night
DESCRIPTION:MacDougall Sportsmen’s Club \n“Steak Dinner” \nSaturday Night – Steak Night! \n2nd Saturday of each month – Starting February 12th \nDinner will be served from 5pm – 7pm \n NY Strip (12oz.)\n Ribeye (16oz.)\n  All dinners are served with the following \nBaked potato\, mushrooms\, vegetable of the day\, garden salad & dinner roll. \n  \nYou will need to purchase a pre order dinner ticket to \nget a dinner.  Cut off date is the 1st Friday of each \nmonth.  Only 50 dinners will be available per \nnight/month.  Tickets available at the bar. \nAll is available for dine in or take out
URL:https://macdougallsportsmen.com/event/steak-night/
LOCATION:MacDougall Sportsmen’s Club\, 3800 MacDougall Road\, Waterloo\, NY\, 13165\, United States
CATEGORIES:Community Event,Steak Night
ATTACH;FMTTYPE=application/pdf:https://macdougallsportsmen.com/wp-content/uploads/2022/01/Steak-Night-1.pdf
END:VEVENT
BEGIN:VEVENT
DTSTART;TZID=America/New_York:20220201T190000
DTEND;TZID=America/New_York:20220201T210000
DTSTAMP:20260419T223140
CREATED:20210218T024148Z
LAST-MODIFIED:20211228T143923Z
UID:1116-1643742000-1643749200@macdougallsportsmen.com
SUMMARY:Members Meeting
DESCRIPTION:
URL:https://macdougallsportsmen.com/event/members-meeting-8-2/
LOCATION:MacDougall Sportsmen’s Club\, 3800 MacDougall Road\, Waterloo\, NY\, 13165\, United States
CATEGORIES:Club Meetings
END:VEVENT
BEGIN:VEVENT
DTSTART;TZID=America/New_York:20220130T090000
DTEND;TZID=America/New_York:20220130T170000
DTSTAMP:20260419T223140
CREATED:20211228T135322Z
LAST-MODIFIED:20211228T135322Z
UID:1092-1643533200-1643562000@macdougallsportsmen.com
SUMMARY:USCCA - Concealed Carry Class
DESCRIPTION:Jim Santos will hold a USCCA – Concealed Carry class on Sunday January 30\, 2022 from 9am – 5pm.  Class Cost: $75 \nAny questions and to sign up for the class please call Jim at: (607) 738-6527
URL:https://macdougallsportsmen.com/event/uscca-concealed-carry-class/
LOCATION:MacDougall Sportsmen’s Club\, 3800 MacDougall Road\, Waterloo\, NY\, 13165\, United States
CATEGORIES:Community Event,Trap/Shooting Event
END:VEVENT
BEGIN:VEVENT
DTSTART;TZID=America/New_York:20220129T090000
DTEND;TZID=America/New_York:20220129T170000
DTSTAMP:20260419T223140
CREATED:20211228T135641Z
LAST-MODIFIED:20211228T135641Z
UID:1094-1643446800-1643475600@macdougallsportsmen.com
SUMMARY:NRA - Basic Pistol Class
DESCRIPTION:Jim Santos will hold a NRA – Basic Pistol Class on Saturday January 29\, 2022 from 9am – 5pm. \nClass cost: $100.00 \n  \nFor any questions or t sign up for this class please contact Jim at: (607) 738-6527
URL:https://macdougallsportsmen.com/event/nra-basic-pistol-class-2/
LOCATION:MacDougall Sportsmen’s Club\, 3800 MacDougall Road\, Waterloo\, NY\, 13165\, United States
CATEGORIES:Community Event,Trap/Shooting Event
END:VEVENT
END:VCALENDAR