BEGIN:VCALENDAR
VERSION:2.0
PRODID:-//MacDougall Sportsmen&#039;s Club - ECPv6.15.11//NONSGML v1.0//EN
CALSCALE:GREGORIAN
METHOD:PUBLISH
X-WR-CALNAME:MacDougall Sportsmen&#039;s Club
X-ORIGINAL-URL:https://macdougallsportsmen.com
X-WR-CALDESC:Events for MacDougall Sportsmen&#039;s Club
REFRESH-INTERVAL;VALUE=DURATION:PT1H
X-Robots-Tag:noindex
X-PUBLISHED-TTL:PT1H
BEGIN:VTIMEZONE
TZID:America/New_York
BEGIN:DAYLIGHT
TZOFFSETFROM:-0500
TZOFFSETTO:-0400
TZNAME:EDT
DTSTART:20200308T070000
END:DAYLIGHT
BEGIN:STANDARD
TZOFFSETFROM:-0400
TZOFFSETTO:-0500
TZNAME:EST
DTSTART:20201101T060000
END:STANDARD
BEGIN:DAYLIGHT
TZOFFSETFROM:-0500
TZOFFSETTO:-0400
TZNAME:EDT
DTSTART:20210314T070000
END:DAYLIGHT
BEGIN:STANDARD
TZOFFSETFROM:-0400
TZOFFSETTO:-0500
TZNAME:EST
DTSTART:20211107T060000
END:STANDARD
BEGIN:DAYLIGHT
TZOFFSETFROM:-0500
TZOFFSETTO:-0400
TZNAME:EDT
DTSTART:20220313T070000
END:DAYLIGHT
BEGIN:STANDARD
TZOFFSETFROM:-0400
TZOFFSETTO:-0500
TZNAME:EST
DTSTART:20221106T060000
END:STANDARD
END:VTIMEZONE
BEGIN:VEVENT
DTSTART;TZID=America/New_York:20210305T160000
DTEND;TZID=America/New_York:20210305T200000
DTSTAMP:20260420T013159
CREATED:20210217T153515Z
LAST-MODIFIED:20220304T150041Z
UID:914-1614960000-1614974400@macdougallsportsmen.com
SUMMARY:Fish Fry
DESCRIPTION:Dine in or Takeout is available (Call 315-585-6732 to order). \nAll Dinners served with French Fries\, Coleslaw\, and Roll \nChoose from: \n\nFresh Haddock Dinner – $12\nShrimp Dinner – $11\nFresh Haddock / Shrimp Dinner (Combo) – $17\nBoneless Chicken Wings – $9\n(Hot\, Medium\, BBQ\, and Cattlemen’s)\n\n\nDelicious Sides: \n\nMozzarella Sticks – $4\nJalapeno Poppers – $4\nFrench Fries – $2\n\nAllergen note: We cook with peanut oil. \n 
URL:https://macdougallsportsmen.com/event/fish-fry/
LOCATION:MacDougall Sportsmen’s Club\, 3800 MacDougall Road\, Waterloo\, NY\, 13165\, United States
CATEGORIES:Fish Dinners
END:VEVENT
BEGIN:VEVENT
DTSTART;TZID=America/New_York:20210305T140000
DTEND;TZID=America/New_York:20210305T210000
DTSTAMP:20260420T013159
CREATED:20210217T153635Z
LAST-MODIFIED:20210217T153635Z
UID:916-1614952800-1614978000@macdougallsportsmen.com
SUMMARY:Cub Scouts Pinewood Derby
DESCRIPTION:
URL:https://macdougallsportsmen.com/event/cub-scouts-pinewood-derby/
LOCATION:MacDougall Sportsmen’s Club\, 3800 MacDougall Road\, Waterloo\, NY\, 13165\, United States
CATEGORIES:Community Event
END:VEVENT
BEGIN:VEVENT
DTSTART;TZID=America/New_York:20210302T190000
DTEND;TZID=America/New_York:20210302T203000
DTSTAMP:20260420T013159
CREATED:20210204T200636Z
LAST-MODIFIED:20210204T200636Z
UID:769-1614711600-1614717000@macdougallsportsmen.com
SUMMARY:Members Meeting
DESCRIPTION:
URL:https://macdougallsportsmen.com/event/members-meeting/
LOCATION:NY
CATEGORIES:Club Meetings
END:VEVENT
BEGIN:VEVENT
DTSTART;TZID=America/New_York:20210226T160000
DTEND;TZID=America/New_York:20210226T200000
DTSTAMP:20260420T013159
CREATED:20210204T200508Z
LAST-MODIFIED:20210218T233730Z
UID:764-1614355200-1614369600@macdougallsportsmen.com
SUMMARY:Fish Dinner
DESCRIPTION:Dine in or Takeout is available (Call 315-585-6732 to order). \nAll Dinners served with French Fries\, Coleslaw\, and Roll \nChoose from: \n\nFresh Haddock Dinner – $12\nShrimp Dinner – $11\nFresh Haddock / Shrimp Dinner (Combo) – $17\nBoneless Chicken Wings – $9\n(Hot\, Medium\, BBQ\, Cattlemen’s\, Mouse’s Cattlemen’s — garlic butter on top)\n\n\nDelicious Sides: \n\nMozzarella Sticks – $4\nJalapeno Poppers – $4\nFrench Fries – $2\n\nAllergen note: We cook with peanut oil.
URL:https://macdougallsportsmen.com/event/fish-dinner/
LOCATION:NY
CATEGORIES:Fish Dinners
END:VEVENT
BEGIN:VEVENT
DTSTART;TZID=America/New_York:20210224T183000
DTEND;TZID=America/New_York:20210224T203000
DTSTAMP:20260420T013159
CREATED:20210204T200426Z
LAST-MODIFIED:20210204T200426Z
UID:762-1614191400-1614198600@macdougallsportsmen.com
SUMMARY:Board Meeting
DESCRIPTION:
URL:https://macdougallsportsmen.com/event/board-meeting/
LOCATION:NY
CATEGORIES:Club Meetings
END:VEVENT
BEGIN:VEVENT
DTSTART;TZID=America/New_York:20210221T100000
DTEND;TZID=America/New_York:20210221T140000
DTSTAMP:20260420T013159
CREATED:20210204T145559Z
LAST-MODIFIED:20210204T195553Z
UID:569-1613901600-1613916000@macdougallsportsmen.com
SUMMARY:Trap - Lyons Winter League
DESCRIPTION:The Lyons Winter League for trap shooting continues from November 2020 to the April 11th Shoot Off.
URL:https://macdougallsportsmen.com/event/trap-lyons-winter-league-2-21-21/
LOCATION:MacDougall Sportsmen’s Club\, 3800 MacDougall Road\, Waterloo\, NY\, 13165\, United States
CATEGORIES:Trap/Shooting Event
END:VEVENT
BEGIN:VEVENT
DTSTART;TZID=America/New_York:20210219T160000
DTEND;TZID=America/New_York:20210219T200000
DTSTAMP:20260420T013159
CREATED:20210204T200152Z
LAST-MODIFIED:20210218T233658Z
UID:760-1613750400-1613764800@macdougallsportsmen.com
SUMMARY:First Fish Dinner
DESCRIPTION:Our Friday Night Fish Fry will be starting February 19\, 2021 and run every Friday from 4pm – 8pm through April 2\, 2021. \nDine in or Takeout is available (Call 315-585-6732 to order). \nAll Dinners served with French Fries\, Coleslaw\, and Roll \nChoose from: \n\nFresh Haddock Dinner – $12\nShrimp Dinner – $11\nFresh Haddock / Shrimp Dinner (Combo) – $17\nBoneless Chicken Wings – $9\n(Hot\, Medium\, BBQ\, Cattlemen’s\, Mouse’s Cattlemen’s — garlic butter on top)\n\n\nDelicious Sides: \n\nMozzarella Sticks – $4\nJalapeno Poppers – $4\nFrench Fries – $2\n\nAllergen note: We cook with peanut oil.
URL:https://macdougallsportsmen.com/event/first-fish-dinner/
LOCATION:MacDougall Sportsmen’s Club\, 3800 MacDougall Road\, Waterloo\, NY\, 13165\, United States
CATEGORIES:Fish Dinners
END:VEVENT
BEGIN:VEVENT
DTSTART;TZID=America/New_York:20210218T183000
DTEND;TZID=America/New_York:20210526T203000
DTSTAMP:20260420T013159
CREATED:20210218T015921Z
LAST-MODIFIED:20210218T015921Z
UID:960-1613673000-1622061000@macdougallsportsmen.com
SUMMARY:Board Meeting
DESCRIPTION:
URL:https://macdougallsportsmen.com/event/board-meeting-4/
LOCATION:MacDougall Sportsmen’s Club\, 3800 MacDougall Road\, Waterloo\, NY\, 13165\, United States
CATEGORIES:Club Meetings
END:VEVENT
BEGIN:VEVENT
DTSTART;TZID=America/New_York:20210214T100000
DTEND;TZID=America/New_York:20210214T140000
DTSTAMP:20260420T013159
CREATED:20210204T145559Z
LAST-MODIFIED:20210204T195602Z
UID:566-1613296800-1613311200@macdougallsportsmen.com
SUMMARY:Trap - Lyons Winter League
DESCRIPTION:The Lyons Winter League for trap shooting continues from November 2020 to the April 11th Shoot Off.
URL:https://macdougallsportsmen.com/event/trap-lyons-winter-league-2-14-21/
LOCATION:MacDougall Sportsmen’s Club\, 3800 MacDougall Road\, Waterloo\, NY\, 13165\, United States
CATEGORIES:Trap/Shooting Event
END:VEVENT
END:VCALENDAR