BEGIN:VCALENDAR
VERSION:2.0
PRODID:-//MacDougall Sportsmen&#039;s Club - ECPv6.15.11//NONSGML v1.0//EN
CALSCALE:GREGORIAN
METHOD:PUBLISH
X-WR-CALNAME:MacDougall Sportsmen&#039;s Club
X-ORIGINAL-URL:https://macdougallsportsmen.com
X-WR-CALDESC:Events for MacDougall Sportsmen&#039;s Club
REFRESH-INTERVAL;VALUE=DURATION:PT1H
X-Robots-Tag:noindex
X-PUBLISHED-TTL:PT1H
BEGIN:VTIMEZONE
TZID:America/New_York
BEGIN:DAYLIGHT
TZOFFSETFROM:-0500
TZOFFSETTO:-0400
TZNAME:EDT
DTSTART:20200308T070000
END:DAYLIGHT
BEGIN:STANDARD
TZOFFSETFROM:-0400
TZOFFSETTO:-0500
TZNAME:EST
DTSTART:20201101T060000
END:STANDARD
BEGIN:DAYLIGHT
TZOFFSETFROM:-0500
TZOFFSETTO:-0400
TZNAME:EDT
DTSTART:20210314T070000
END:DAYLIGHT
BEGIN:STANDARD
TZOFFSETFROM:-0400
TZOFFSETTO:-0500
TZNAME:EST
DTSTART:20211107T060000
END:STANDARD
BEGIN:DAYLIGHT
TZOFFSETFROM:-0500
TZOFFSETTO:-0400
TZNAME:EDT
DTSTART:20220313T070000
END:DAYLIGHT
BEGIN:STANDARD
TZOFFSETFROM:-0400
TZOFFSETTO:-0500
TZNAME:EST
DTSTART:20221106T060000
END:STANDARD
END:VTIMEZONE
BEGIN:VEVENT
DTSTART;TZID=America/New_York:20210925T080000
DTEND;TZID=America/New_York:20210925T170000
DTSTAMP:20260420T032613
CREATED:20210218T021906Z
LAST-MODIFIED:20210218T021906Z
UID:976-1632556800-1632589200@macdougallsportsmen.com
SUMMARY:200 Bird Trap Run
DESCRIPTION:
URL:https://macdougallsportsmen.com/event/200-bird-trap-run/
LOCATION:MacDougall Sportsmen’s Club\, 3800 MacDougall Road\, Waterloo\, NY\, 13165\, United States
CATEGORIES:Trap/Shooting Event
END:VEVENT
BEGIN:VEVENT
DTSTART;TZID=America/New_York:20210918T100000
DTEND;TZID=America/New_York:20210918T160000
DTSTAMP:20260420T032613
CREATED:20210218T021509Z
LAST-MODIFIED:20210218T021509Z
UID:974-1631959200-1631980800@macdougallsportsmen.com
SUMMARY:National Hunting & Fishing Day
DESCRIPTION:
URL:https://macdougallsportsmen.com/event/national-hunting-fishing-day/
LOCATION:MacDougall Sportsmen’s Club\, 3800 MacDougall Road\, Waterloo\, NY\, 13165\, United States
CATEGORIES:Community Event
END:VEVENT
BEGIN:VEVENT
DTSTART;TZID=America/New_York:20210907T190000
DTEND;TZID=America/New_York:20210907T210000
DTSTAMP:20260420T032613
CREATED:20210218T020943Z
LAST-MODIFIED:20210218T020943Z
UID:972-1631041200-1631048400@macdougallsportsmen.com
SUMMARY:Members Meeting
DESCRIPTION:
URL:https://macdougallsportsmen.com/event/members-meeting-5/
LOCATION:MacDougall Sportsmen’s Club\, 3800 MacDougall Road\, Waterloo\, NY\, 13165\, United States
CATEGORIES:Club Meetings
END:VEVENT
BEGIN:VEVENT
DTSTART;TZID=America/New_York:20210825T183000
DTEND;TZID=America/New_York:20210825T203000
DTSTAMP:20260420T032613
CREATED:20210218T020806Z
LAST-MODIFIED:20210218T020806Z
UID:970-1629916200-1629923400@macdougallsportsmen.com
SUMMARY:Board Meeting
DESCRIPTION:
URL:https://macdougallsportsmen.com/event/board-meeting-7/
LOCATION:MacDougall Sportsmen’s Club\, 3800 MacDougall Road\, Waterloo\, NY\, 13165\, United States
CATEGORIES:Club Meetings
END:VEVENT
BEGIN:VEVENT
DTSTART;TZID=America/New_York:20210821T130000
DTEND;TZID=America/New_York:20210821T170000
DTSTAMP:20260420T032613
CREATED:20210218T020626Z
LAST-MODIFIED:20210218T191130Z
UID:968-1629550800-1629565200@macdougallsportsmen.com
SUMMARY:Clam Bake
DESCRIPTION:
URL:https://macdougallsportsmen.com/event/clambake/
LOCATION:MacDougall Sportsmen’s Club\, 3800 MacDougall Road\, Waterloo\, NY\, 13165\, United States
CATEGORIES:Community Event
END:VEVENT
BEGIN:VEVENT
DTSTART;TZID=America/New_York:20210728T183000
DTEND;TZID=America/New_York:20210728T203000
DTSTAMP:20260420T032613
CREATED:20210218T020239Z
LAST-MODIFIED:20210218T020239Z
UID:966-1627497000-1627504200@macdougallsportsmen.com
SUMMARY:Board Meeting
DESCRIPTION:
URL:https://macdougallsportsmen.com/event/board-meeting-6/
LOCATION:MacDougall Sportsmen’s Club\, 3800 MacDougall Road\, Waterloo\, NY\, 13165\, United States
CATEGORIES:Club Meetings
END:VEVENT
BEGIN:VEVENT
DTSTART;TZID=America/New_York:20210630T183000
DTEND;TZID=America/New_York:20210630T203000
DTSTAMP:20260420T032613
CREATED:20210218T020138Z
LAST-MODIFIED:20210218T020138Z
UID:964-1625077800-1625085000@macdougallsportsmen.com
SUMMARY:Board Meeting
DESCRIPTION:
URL:https://macdougallsportsmen.com/event/board-meeting-5/
LOCATION:MacDougall Sportsmen’s Club\, 3800 MacDougall Road\, Waterloo\, NY\, 13165\, United States
CATEGORIES:Club Meetings
END:VEVENT
BEGIN:VEVENT
DTSTART;TZID=America/New_York:20210601T190000
DTEND;TZID=America/New_York:20210601T210000
DTSTAMP:20260420T032613
CREATED:20210218T020028Z
LAST-MODIFIED:20210218T020028Z
UID:962-1622574000-1622581200@macdougallsportsmen.com
SUMMARY:Members Meeting
DESCRIPTION:
URL:https://macdougallsportsmen.com/event/members-meeting-4/
LOCATION:MacDougall Sportsmen’s Club\, 3800 MacDougall Road\, Waterloo\, NY\, 13165\, United States
CATEGORIES:Club Meetings
END:VEVENT
BEGIN:VEVENT
DTSTART;TZID=America/New_York:20210522T090000
DTEND;TZID=America/New_York:20210522T170000
DTSTAMP:20260420T032613
CREATED:20210417T145456Z
LAST-MODIFIED:20210417T145456Z
UID:1059-1621674000-1621702800@macdougallsportsmen.com
SUMMARY:NRA Basic Pistol Class
DESCRIPTION:Jim Santos will be hosting an NRA Basic Pistol Class here at the club from 9am to 5pm.  Cost is $100.00.  If you have any questions please call 607-738-6527.
URL:https://macdougallsportsmen.com/event/nra-basic-pistol-class/
LOCATION:MacDougall Sportsmen’s Club\, 3800 MacDougall Road\, Waterloo\, NY\, 13165\, United States
CATEGORIES:Community Event,Trap/Shooting Event
END:VEVENT
BEGIN:VEVENT
DTSTART;TZID=America/New_York:20210515T090000
DTEND;TZID=America/New_York:20210515T140000
DTSTAMP:20260420T032613
CREATED:20210218T015759Z
LAST-MODIFIED:20210218T015759Z
UID:958-1621069200-1621087200@macdougallsportsmen.com
SUMMARY:Spring Clean
DESCRIPTION:
URL:https://macdougallsportsmen.com/event/spring-clean/
LOCATION:MacDougall Sportsmen’s Club\, 3800 MacDougall Road\, Waterloo\, NY\, 13165\, United States
CATEGORIES:Community Event
END:VEVENT
BEGIN:VEVENT
DTSTART;TZID=America/New_York:20210504T190000
DTEND;TZID=America/New_York:20210504T210000
DTSTAMP:20260420T032613
CREATED:20210218T015650Z
LAST-MODIFIED:20210218T015650Z
UID:956-1620154800-1620162000@macdougallsportsmen.com
SUMMARY:Members Meeting
DESCRIPTION:
URL:https://macdougallsportsmen.com/event/members-meeting-3/
LOCATION:MacDougall Sportsmen’s Club\, 3800 MacDougall Road\, Waterloo\, NY\, 13165\, United States
CATEGORIES:Club Meetings
END:VEVENT
BEGIN:VEVENT
DTSTART;TZID=America/New_York:20210428T183000
DTEND;TZID=America/New_York:20210428T203000
DTSTAMP:20260420T032613
CREATED:20210218T015542Z
LAST-MODIFIED:20210218T015542Z
UID:954-1619634600-1619641800@macdougallsportsmen.com
SUMMARY:Board Meeting
DESCRIPTION:
URL:https://macdougallsportsmen.com/event/board-meeting-3/
LOCATION:MacDougall Sportsmen’s Club\, 3800 MacDougall Road\, Waterloo\, NY\, 13165\, United States
CATEGORIES:Club Meetings
END:VEVENT
BEGIN:VEVENT
DTSTART;TZID=America/New_York:20210425T080000
DTEND;TZID=America/New_York:20210425T140000
DTSTAMP:20260420T032613
CREATED:20210218T015403Z
LAST-MODIFIED:20210218T015403Z
UID:952-1619337600-1619359200@macdougallsportsmen.com
SUMMARY:Little Brown Jug Trap League Shoot
DESCRIPTION:
URL:https://macdougallsportsmen.com/event/little-brown-jug-trap-league-shoot/
LOCATION:MacDougall Sportsmen’s Club\, 3800 MacDougall Road\, Waterloo\, NY\, 13165\, United States
CATEGORIES:Trap/Shooting Event
END:VEVENT
BEGIN:VEVENT
DTSTART;TZID=America/New_York:20210424T080000
DTEND;TZID=America/New_York:20210424T140000
DTSTAMP:20260420T032613
CREATED:20210218T015024Z
LAST-MODIFIED:20210218T015024Z
UID:950-1619251200-1619272800@macdougallsportsmen.com
SUMMARY:Little Brown Jug Trap League Shoot
DESCRIPTION:
URL:https://macdougallsportsmen.com/event/little-brown-jug-trap-league-shoot-2/
LOCATION:MacDougall Sportsmen’s Club\, 3800 MacDougall Road\, Waterloo\, NY\, 13165\, United States
CATEGORIES:Trap/Shooting Event
END:VEVENT
BEGIN:VEVENT
DTSTART;TZID=America/New_York:20210411T100000
DTEND;TZID=America/New_York:20210411T140000
DTSTAMP:20260420T032613
CREATED:20210204T145559Z
LAST-MODIFIED:20210204T195519Z
UID:577-1618135200-1618149600@macdougallsportsmen.com
SUMMARY:Trap Shoot Off - Lyons Winter League
DESCRIPTION:The Lyons Winter League for trap shooting continues from November 2020 to the April 11th Shoot Off.
URL:https://macdougallsportsmen.com/event/trap-lyons-winter-league-4-11-21/
LOCATION:MacDougall Sportsmen’s Club\, 3800 MacDougall Road\, Waterloo\, NY\, 13165\, United States
CATEGORIES:Trap/Shooting Event
END:VEVENT
BEGIN:VEVENT
DTSTART;TZID=America/New_York:20210406T190000
DTEND;TZID=America/New_York:20210406T210000
DTSTAMP:20260420T032613
CREATED:20210217T165801Z
LAST-MODIFIED:20210217T165801Z
UID:946-1617735600-1617742800@macdougallsportsmen.com
SUMMARY:Members Meeting
DESCRIPTION:
URL:https://macdougallsportsmen.com/event/members-meeting-2/
LOCATION:MacDougall Sportsmen’s Club\, 3800 MacDougall Road\, Waterloo\, NY\, 13165\, United States
CATEGORIES:Club Meetings
END:VEVENT
BEGIN:VEVENT
DTSTART;TZID=America/New_York:20210402T160000
DTEND;TZID=America/New_York:20210402T200000
DTSTAMP:20260420T032613
CREATED:20210217T153515Z
LAST-MODIFIED:20210218T233704Z
UID:927-1617379200-1617393600@macdougallsportsmen.com
SUMMARY:Last Fish Fry
DESCRIPTION:THIS IS OUR FINAL FISH FRY FOR THE WINTER/SPRING SEASON! \nDine in or Takeout is available (Call 315-585-6732 to order). \nAll Dinners served with French Fries\, Coleslaw\, and Roll \nChoose from: \n\nFresh Haddock Dinner – $12\nShrimp Dinner – $11\nFresh Haddock / Shrimp Dinner (Combo) – $17\nBoneless Chicken Wings – $9\n(Hot\, Medium\, BBQ\, Cattlemen’s\, Mouse’s Cattlemen’s — garlic butter on top)\n\n\nDelicious Sides: \n\nMozzarella Sticks – $4\nJalapeno Poppers – $4\nFrench Fries – $2\n\nAllergen note: We cook with peanut oil. \n 
URL:https://macdougallsportsmen.com/event/last-fish-fry/
LOCATION:MacDougall Sportsmen’s Club\, 3800 MacDougall Road\, Waterloo\, NY\, 13165\, United States
CATEGORIES:Fish Dinners
END:VEVENT
BEGIN:VEVENT
DTSTART;TZID=America/New_York:20210331T183000
DTEND;TZID=America/New_York:20210331T203000
DTSTAMP:20260420T032613
CREATED:20210217T154322Z
LAST-MODIFIED:20210217T154322Z
UID:932-1617215400-1617222600@macdougallsportsmen.com
SUMMARY:Board Meeting
DESCRIPTION:
URL:https://macdougallsportsmen.com/event/board-meeting-2/
LOCATION:MacDougall Sportsmen’s Club\, 3800 MacDougall Road\, Waterloo\, NY\, 13165\, United States
CATEGORIES:Club Meetings
END:VEVENT
BEGIN:VEVENT
DTSTART;TZID=America/New_York:20210327T100000
DTEND;TZID=America/New_York:20210327T180000
DTSTAMP:20260420T032613
CREATED:20210217T154147Z
LAST-MODIFIED:20210217T154147Z
UID:929-1616839200-1616868000@macdougallsportsmen.com
SUMMARY:Spring Shoot
DESCRIPTION:
URL:https://macdougallsportsmen.com/event/spring-shoot/
LOCATION:MacDougall Sportsmen’s Club\, 3800 MacDougall Road\, Waterloo\, NY\, 13165\, United States
CATEGORIES:Trap/Shooting Event
END:VEVENT
BEGIN:VEVENT
DTSTART;TZID=America/New_York:20210327T100000
DTEND;TZID=America/New_York:20210327T170000
DTSTAMP:20260420T032613
CREATED:20210316T141226Z
LAST-MODIFIED:20210316T141226Z
UID:1048-1616839200-1616864400@macdougallsportsmen.com
SUMMARY:Spring Shoot and Raffle
DESCRIPTION:MacDougall Sportsmen’s Club \n3800 MacDougall Rd. \nWaterloo\, NY 13165 \n315-585-6359 \n  \nSaturday\, March 27\, 2021 \n  \nAnnual Ham/Shrimp  \nShoot & Raffle  \n(Trap\, Skeet\, 100 Yard\, Pistol) \n10 am – 5 pm \nFood & Refreshments Available \n  \nMasks & Social Distancing Will Be  \nPracticed Inside. \n  \nNote: You will need to supply your own shells
URL:https://macdougallsportsmen.com/event/spring-shoot-and-raffle/
LOCATION:MacDougall Sportsmen’s Club\, 3800 MacDougall Road\, Waterloo\, NY\, 13165\, United States
CATEGORIES:Trap/Shooting Event
END:VEVENT
BEGIN:VEVENT
DTSTART;TZID=America/New_York:20210326T160000
DTEND;TZID=America/New_York:20210326T200000
DTSTAMP:20260420T032613
CREATED:20210217T153515Z
LAST-MODIFIED:20210218T233709Z
UID:923-1616774400-1616788800@macdougallsportsmen.com
SUMMARY:Fish Fry
DESCRIPTION:Dine in or Takeout is available (Call 315-585-6732 to order). \nAll Dinners served with French Fries\, Coleslaw\, and Roll \nChoose from: \n\nFresh Haddock Dinner – $12\nShrimp Dinner – $11\nFresh Haddock / Shrimp Dinner (Combo) – $17\nBoneless Chicken Wings – $9\n(Hot\, Medium\, BBQ\, Cattlemen’s\, Mouse’s Cattlemen’s — garlic butter on top)\n\n\nDelicious Sides: \n\nMozzarella Sticks – $4\nJalapeno Poppers – $4\nFrench Fries – $2\n\nAllergen note: We cook with peanut oil. \n 
URL:https://macdougallsportsmen.com/event/fish-fry-2-3/
LOCATION:MacDougall Sportsmen’s Club\, 3800 MacDougall Road\, Waterloo\, NY\, 13165\, United States
CATEGORIES:Fish Dinners
END:VEVENT
BEGIN:VEVENT
DTSTART;TZID=America/New_York:20210321T100000
DTEND;TZID=America/New_York:20210321T140000
DTSTAMP:20260420T032613
CREATED:20210204T145559Z
LAST-MODIFIED:20210204T195532Z
UID:571-1616320800-1616335200@macdougallsportsmen.com
SUMMARY:Trap - Lyons Winter League
DESCRIPTION:The Lyons Winter League for trap shooting continues from November 2020 to the April 11th Shoot Off.
URL:https://macdougallsportsmen.com/event/trap-lyons-winter-league-3-21-21/
LOCATION:MacDougall Sportsmen’s Club\, 3800 MacDougall Road\, Waterloo\, NY\, 13165\, United States
CATEGORIES:Trap/Shooting Event
END:VEVENT
BEGIN:VEVENT
DTSTART;TZID=America/New_York:20210319T160000
DTEND;TZID=America/New_York:20210319T200000
DTSTAMP:20260420T032613
CREATED:20210217T153515Z
LAST-MODIFIED:20210218T233714Z
UID:924-1616169600-1616184000@macdougallsportsmen.com
SUMMARY:Fish Fry
DESCRIPTION:Dine in or Takeout is available (Call 315-585-6732 to order). \nAll Dinners served with French Fries\, Coleslaw\, and Roll \nChoose from: \n\nFresh Haddock Dinner – $12\nShrimp Dinner – $11\nFresh Haddock / Shrimp Dinner (Combo) – $17\nBoneless Chicken Wings – $9\n(Hot\, Medium\, BBQ\, Cattlemen’s\, Mouse’s Cattlemen’s — garlic butter on top)\n\n\nDelicious Sides: \n\nMozzarella Sticks – $4\nJalapeno Poppers – $4\nFrench Fries – $2\n\nAllergen note: We cook with peanut oil. \n 
URL:https://macdougallsportsmen.com/event/fish-fry-2-2/
LOCATION:MacDougall Sportsmen’s Club\, 3800 MacDougall Road\, Waterloo\, NY\, 13165\, United States
CATEGORIES:Fish Dinners
END:VEVENT
BEGIN:VEVENT
DTSTART;TZID=America/New_York:20210314T100000
DTEND;TZID=America/New_York:20210314T140000
DTSTAMP:20260420T032613
CREATED:20210204T145559Z
LAST-MODIFIED:20210204T195543Z
UID:572-1615716000-1615730400@macdougallsportsmen.com
SUMMARY:Trap - Lyons Winter League
DESCRIPTION:The Lyons Winter League for trap shooting continues from November 2020 to the April 11th Shoot Off.
URL:https://macdougallsportsmen.com/event/trap-lyons-winter-league-3-14-21/
LOCATION:MacDougall Sportsmen’s Club\, 3800 MacDougall Road\, Waterloo\, NY\, 13165\, United States
CATEGORIES:Trap/Shooting Event
END:VEVENT
BEGIN:VEVENT
DTSTART;TZID=America/New_York:20210312T160000
DTEND;TZID=America/New_York:20210312T200000
DTSTAMP:20260420T032613
CREATED:20210217T153515Z
LAST-MODIFIED:20210218T233720Z
UID:921-1615564800-1615579200@macdougallsportsmen.com
SUMMARY:Fish Fry
DESCRIPTION:Dine in or Takeout is available (Call 315-585-6732 to order). \nAll Dinners served with French Fries\, Coleslaw\, and Roll \nChoose from: \n\nFresh Haddock Dinner – $12\nShrimp Dinner – $11\nFresh Haddock / Shrimp Dinner (Combo) – $17\nBoneless Chicken Wings – $9\n(Hot\, Medium\, BBQ\, Cattlemen’s\, Mouse’s Cattlemen’s — garlic butter on top)\n\n\nDelicious Sides: \n\nMozzarella Sticks – $4\nJalapeno Poppers – $4\nFrench Fries – $2\n\nAllergen note: We cook with peanut oil. \n 
URL:https://macdougallsportsmen.com/event/fish-fry-2/
LOCATION:MacDougall Sportsmen’s Club\, 3800 MacDougall Road\, Waterloo\, NY\, 13165\, United States
CATEGORIES:Fish Dinners
END:VEVENT
BEGIN:VEVENT
DTSTART;TZID=America/New_York:20210306T080000
DTEND;TZID=America/New_York:20210306T170000
DTSTAMP:20260420T032613
CREATED:20210217T153635Z
LAST-MODIFIED:20210217T153740Z
UID:919-1615017600-1615050000@macdougallsportsmen.com
SUMMARY:Cub Scouts Pinewood Derby
DESCRIPTION:
URL:https://macdougallsportsmen.com/event/cub-scouts-pinewood-derby-2/
LOCATION:MacDougall Sportsmen’s Club\, 3800 MacDougall Road\, Waterloo\, NY\, 13165\, United States
CATEGORIES:Community Event
END:VEVENT
BEGIN:VEVENT
DTSTART;TZID=America/New_York:20210305T160000
DTEND;TZID=America/New_York:20210305T200000
DTSTAMP:20260420T032613
CREATED:20210217T153515Z
LAST-MODIFIED:20220304T150041Z
UID:914-1614960000-1614974400@macdougallsportsmen.com
SUMMARY:Fish Fry
DESCRIPTION:Dine in or Takeout is available (Call 315-585-6732 to order). \nAll Dinners served with French Fries\, Coleslaw\, and Roll \nChoose from: \n\nFresh Haddock Dinner – $12\nShrimp Dinner – $11\nFresh Haddock / Shrimp Dinner (Combo) – $17\nBoneless Chicken Wings – $9\n(Hot\, Medium\, BBQ\, and Cattlemen’s)\n\n\nDelicious Sides: \n\nMozzarella Sticks – $4\nJalapeno Poppers – $4\nFrench Fries – $2\n\nAllergen note: We cook with peanut oil. \n 
URL:https://macdougallsportsmen.com/event/fish-fry/
LOCATION:MacDougall Sportsmen’s Club\, 3800 MacDougall Road\, Waterloo\, NY\, 13165\, United States
CATEGORIES:Fish Dinners
END:VEVENT
BEGIN:VEVENT
DTSTART;TZID=America/New_York:20210305T140000
DTEND;TZID=America/New_York:20210305T210000
DTSTAMP:20260420T032613
CREATED:20210217T153635Z
LAST-MODIFIED:20210217T153635Z
UID:916-1614952800-1614978000@macdougallsportsmen.com
SUMMARY:Cub Scouts Pinewood Derby
DESCRIPTION:
URL:https://macdougallsportsmen.com/event/cub-scouts-pinewood-derby/
LOCATION:MacDougall Sportsmen’s Club\, 3800 MacDougall Road\, Waterloo\, NY\, 13165\, United States
CATEGORIES:Community Event
END:VEVENT
BEGIN:VEVENT
DTSTART;TZID=America/New_York:20210302T190000
DTEND;TZID=America/New_York:20210302T203000
DTSTAMP:20260420T032613
CREATED:20210204T200636Z
LAST-MODIFIED:20210204T200636Z
UID:769-1614711600-1614717000@macdougallsportsmen.com
SUMMARY:Members Meeting
DESCRIPTION:
URL:https://macdougallsportsmen.com/event/members-meeting/
LOCATION:NY
CATEGORIES:Club Meetings
END:VEVENT
BEGIN:VEVENT
DTSTART;TZID=America/New_York:20210226T160000
DTEND;TZID=America/New_York:20210226T200000
DTSTAMP:20260420T032613
CREATED:20210204T200508Z
LAST-MODIFIED:20210218T233730Z
UID:764-1614355200-1614369600@macdougallsportsmen.com
SUMMARY:Fish Dinner
DESCRIPTION:Dine in or Takeout is available (Call 315-585-6732 to order). \nAll Dinners served with French Fries\, Coleslaw\, and Roll \nChoose from: \n\nFresh Haddock Dinner – $12\nShrimp Dinner – $11\nFresh Haddock / Shrimp Dinner (Combo) – $17\nBoneless Chicken Wings – $9\n(Hot\, Medium\, BBQ\, Cattlemen’s\, Mouse’s Cattlemen’s — garlic butter on top)\n\n\nDelicious Sides: \n\nMozzarella Sticks – $4\nJalapeno Poppers – $4\nFrench Fries – $2\n\nAllergen note: We cook with peanut oil.
URL:https://macdougallsportsmen.com/event/fish-dinner/
LOCATION:NY
CATEGORIES:Fish Dinners
END:VEVENT
END:VCALENDAR